BEGIN:VCALENDAR
VERSION:2.0
PRODID:-//Bada Bean Bada Booze - ECPv6.15.20//NONSGML v1.0//EN
CALSCALE:GREGORIAN
METHOD:PUBLISH
X-ORIGINAL-URL:https://www.badabeanbadabooze.com
X-WR-CALDESC:Events for Bada Bean Bada Booze
REFRESH-INTERVAL;VALUE=DURATION:PT1H
X-Robots-Tag:noindex
X-PUBLISHED-TTL:PT1H
BEGIN:VTIMEZONE
TZID:America/New_York
BEGIN:DAYLIGHT
TZOFFSETFROM:-0500
TZOFFSETTO:-0400
TZNAME:EDT
DTSTART:20270314T070000
END:DAYLIGHT
BEGIN:STANDARD
TZOFFSETFROM:-0400
TZOFFSETTO:-0500
TZNAME:EST
DTSTART:20271107T060000
END:STANDARD
BEGIN:DAYLIGHT
TZOFFSETFROM:-0500
TZOFFSETTO:-0400
TZNAME:EDT
DTSTART:20280312T070000
END:DAYLIGHT
BEGIN:STANDARD
TZOFFSETFROM:-0400
TZOFFSETTO:-0500
TZNAME:EST
DTSTART:20281105T060000
END:STANDARD
BEGIN:DAYLIGHT
TZOFFSETFROM:-0500
TZOFFSETTO:-0400
TZNAME:EDT
DTSTART:20290311T070000
END:DAYLIGHT
BEGIN:STANDARD
TZOFFSETFROM:-0400
TZOFFSETTO:-0500
TZNAME:EST
DTSTART:20291104T060000
END:STANDARD
END:VTIMEZONE
BEGIN:VEVENT
DTSTART;TZID=America/New_York:20280403T190000
DTEND;TZID=America/New_York:20280403T210000
DTSTAMP:20260425T235329
CREATED:20250903T192832Z
LAST-MODIFIED:20250903T192832Z
UID:10001644-1838401200-1838408400@www.badabeanbadabooze.com
SUMMARY:Trivia Night at Quarry Trails
DESCRIPTION:Bring your crew and your brainpower to our new weekly trivia at Quarry Trails. Fast-paced rounds\, pop-culture to deep cuts\, and prizes for the top teams. It’s free to play\, team-friendly\, and perfect for a midweek hang. \nSettle in with lattes\, cocktails\, and snacks from the bar while you compete. Walk in\, grab a table\, and game on. \nFREE TO PLAY
URL:https://www.badabeanbadabooze.com/event/trivia-night-at-quarry-trails/2028-04-03/
LOCATION:Quarry Trails\, 2157 Quarry Trails Drive\, Columbus\, OH\, 43228\, United States
CATEGORIES:Trivia
ATTACH;FMTTYPE=image/jpeg:https://www.badabeanbadabooze.com/wp-content/uploads/2025/09/QT_TRIVIA-WEBSITE-GRAP-1.jpg
GEO:39.9984040063;-83.0838202362
X-APPLE-STRUCTURED-LOCATION;VALUE=URI;X-ADDRESS=Quarry Trails 2157 Quarry Trails Drive Columbus OH 43228 United States;X-APPLE-RADIUS=500;X-TITLE=2157 Quarry Trails Drive:geo:-83.0838202362,39.9984040063
END:VEVENT
BEGIN:VEVENT
DTSTART;TZID=America/New_York:20280404T180000
DTEND;TZID=America/New_York:20280404T200000
DTSTAMP:20260425T235329
CREATED:20250112T174545Z
LAST-MODIFIED:20251119T174358Z
UID:10000180-1838484000-1838491200@www.badabeanbadabooze.com
SUMMARY:Trivia Twoozeday
DESCRIPTION:Trivia Twoozeday! Show up early and take advantage of our great Happy Hour specials. Consider it as a lubricant for the brain. Trivia starts at 6pm until 8pm!
URL:https://www.badabeanbadabooze.com/event/trivia-twoozedays/2028-04-04/
LOCATION:Italian Village\, 231 E 1st Ave\, Columbus\, OH\, 43215\, United States
ATTACH;FMTTYPE=image/png:https://www.badabeanbadabooze.com/wp-content/uploads/2025/01/TH_BADA_TriviaWebsiteGraphic1080x1080_041525_v3A-1.png
END:VEVENT
BEGIN:VEVENT
DTSTART;TZID=America/New_York:20280406T190000
DTEND;TZID=America/New_York:20280406T210000
DTSTAMP:20260425T235329
CREATED:20250422T150043Z
LAST-MODIFIED:20260410T133057Z
UID:10001382-1838660400-1838667600@www.badabeanbadabooze.com
SUMMARY:Off The Record: Jazz Night at the Quarry
DESCRIPTION:Introducing Off the Record—a new Thursday tradition at our Quarry Trails location.Join us weekly from 7–9 PM for intimate live jazz sessions\, curated cocktails\, and chill night-out energy. \n$25 bottles of select wines! \nonly on Thursdays during bar hours (4-10 PM)
URL:https://www.badabeanbadabooze.com/event/off-the-record-jazz-night-at-the-quarry/2028-04-06/
LOCATION:Quarry Trails\, 2157 Quarry Trails Drive\, Columbus\, OH\, 43228\, United States
ATTACH;FMTTYPE=image/png:https://www.badabeanbadabooze.com/wp-content/uploads/2025/04/TH_BADA_OffTheRecordWEBSITEGRAPHIC_042225_v4A.png
GEO:39.9984040063;-83.0838202362
X-APPLE-STRUCTURED-LOCATION;VALUE=URI;X-ADDRESS=Quarry Trails 2157 Quarry Trails Drive Columbus OH 43228 United States;X-APPLE-RADIUS=500;X-TITLE=2157 Quarry Trails Drive:geo:-83.0838202362,39.9984040063
END:VEVENT
BEGIN:VEVENT
DTSTART;TZID=America/New_York:20280410T190000
DTEND;TZID=America/New_York:20280410T210000
DTSTAMP:20260425T235329
CREATED:20250903T192832Z
LAST-MODIFIED:20250903T192832Z
UID:10001645-1839006000-1839013200@www.badabeanbadabooze.com
SUMMARY:Trivia Night at Quarry Trails
DESCRIPTION:Bring your crew and your brainpower to our new weekly trivia at Quarry Trails. Fast-paced rounds\, pop-culture to deep cuts\, and prizes for the top teams. It’s free to play\, team-friendly\, and perfect for a midweek hang. \nSettle in with lattes\, cocktails\, and snacks from the bar while you compete. Walk in\, grab a table\, and game on. \nFREE TO PLAY
URL:https://www.badabeanbadabooze.com/event/trivia-night-at-quarry-trails/2028-04-10/
LOCATION:Quarry Trails\, 2157 Quarry Trails Drive\, Columbus\, OH\, 43228\, United States
CATEGORIES:Trivia
ATTACH;FMTTYPE=image/jpeg:https://www.badabeanbadabooze.com/wp-content/uploads/2025/09/QT_TRIVIA-WEBSITE-GRAP-1.jpg
GEO:39.9984040063;-83.0838202362
X-APPLE-STRUCTURED-LOCATION;VALUE=URI;X-ADDRESS=Quarry Trails 2157 Quarry Trails Drive Columbus OH 43228 United States;X-APPLE-RADIUS=500;X-TITLE=2157 Quarry Trails Drive:geo:-83.0838202362,39.9984040063
END:VEVENT
BEGIN:VEVENT
DTSTART;TZID=America/New_York:20280411T180000
DTEND;TZID=America/New_York:20280411T200000
DTSTAMP:20260425T235329
CREATED:20250112T174545Z
LAST-MODIFIED:20251119T174358Z
UID:10000181-1839088800-1839096000@www.badabeanbadabooze.com
SUMMARY:Trivia Twoozeday
DESCRIPTION:Trivia Twoozeday! Show up early and take advantage of our great Happy Hour specials. Consider it as a lubricant for the brain. Trivia starts at 6pm until 8pm!
URL:https://www.badabeanbadabooze.com/event/trivia-twoozedays/2028-04-11/
LOCATION:Italian Village\, 231 E 1st Ave\, Columbus\, OH\, 43215\, United States
ATTACH;FMTTYPE=image/png:https://www.badabeanbadabooze.com/wp-content/uploads/2025/01/TH_BADA_TriviaWebsiteGraphic1080x1080_041525_v3A-1.png
END:VEVENT
BEGIN:VEVENT
DTSTART;TZID=America/New_York:20280413T190000
DTEND;TZID=America/New_York:20280413T210000
DTSTAMP:20260425T235329
CREATED:20250422T150043Z
LAST-MODIFIED:20260410T133057Z
UID:10001383-1839265200-1839272400@www.badabeanbadabooze.com
SUMMARY:Off The Record: Jazz Night at the Quarry
DESCRIPTION:Introducing Off the Record—a new Thursday tradition at our Quarry Trails location.Join us weekly from 7–9 PM for intimate live jazz sessions\, curated cocktails\, and chill night-out energy. \n$25 bottles of select wines! \nonly on Thursdays during bar hours (4-10 PM)
URL:https://www.badabeanbadabooze.com/event/off-the-record-jazz-night-at-the-quarry/2028-04-13/
LOCATION:Quarry Trails\, 2157 Quarry Trails Drive\, Columbus\, OH\, 43228\, United States
ATTACH;FMTTYPE=image/png:https://www.badabeanbadabooze.com/wp-content/uploads/2025/04/TH_BADA_OffTheRecordWEBSITEGRAPHIC_042225_v4A.png
GEO:39.9984040063;-83.0838202362
X-APPLE-STRUCTURED-LOCATION;VALUE=URI;X-ADDRESS=Quarry Trails 2157 Quarry Trails Drive Columbus OH 43228 United States;X-APPLE-RADIUS=500;X-TITLE=2157 Quarry Trails Drive:geo:-83.0838202362,39.9984040063
END:VEVENT
BEGIN:VEVENT
DTSTART;TZID=America/New_York:20280417T190000
DTEND;TZID=America/New_York:20280417T210000
DTSTAMP:20260425T235329
CREATED:20250903T192832Z
LAST-MODIFIED:20250903T192832Z
UID:10001646-1839610800-1839618000@www.badabeanbadabooze.com
SUMMARY:Trivia Night at Quarry Trails
DESCRIPTION:Bring your crew and your brainpower to our new weekly trivia at Quarry Trails. Fast-paced rounds\, pop-culture to deep cuts\, and prizes for the top teams. It’s free to play\, team-friendly\, and perfect for a midweek hang. \nSettle in with lattes\, cocktails\, and snacks from the bar while you compete. Walk in\, grab a table\, and game on. \nFREE TO PLAY
URL:https://www.badabeanbadabooze.com/event/trivia-night-at-quarry-trails/2028-04-17/
LOCATION:Quarry Trails\, 2157 Quarry Trails Drive\, Columbus\, OH\, 43228\, United States
CATEGORIES:Trivia
ATTACH;FMTTYPE=image/jpeg:https://www.badabeanbadabooze.com/wp-content/uploads/2025/09/QT_TRIVIA-WEBSITE-GRAP-1.jpg
GEO:39.9984040063;-83.0838202362
X-APPLE-STRUCTURED-LOCATION;VALUE=URI;X-ADDRESS=Quarry Trails 2157 Quarry Trails Drive Columbus OH 43228 United States;X-APPLE-RADIUS=500;X-TITLE=2157 Quarry Trails Drive:geo:-83.0838202362,39.9984040063
END:VEVENT
BEGIN:VEVENT
DTSTART;TZID=America/New_York:20280418T180000
DTEND;TZID=America/New_York:20280418T200000
DTSTAMP:20260425T235329
CREATED:20250112T174545Z
LAST-MODIFIED:20251119T174358Z
UID:10000182-1839693600-1839700800@www.badabeanbadabooze.com
SUMMARY:Trivia Twoozeday
DESCRIPTION:Trivia Twoozeday! Show up early and take advantage of our great Happy Hour specials. Consider it as a lubricant for the brain. Trivia starts at 6pm until 8pm!
URL:https://www.badabeanbadabooze.com/event/trivia-twoozedays/2028-04-18/
LOCATION:Italian Village\, 231 E 1st Ave\, Columbus\, OH\, 43215\, United States
ATTACH;FMTTYPE=image/png:https://www.badabeanbadabooze.com/wp-content/uploads/2025/01/TH_BADA_TriviaWebsiteGraphic1080x1080_041525_v3A-1.png
END:VEVENT
BEGIN:VEVENT
DTSTART;TZID=America/New_York:20280420T190000
DTEND;TZID=America/New_York:20280420T210000
DTSTAMP:20260425T235329
CREATED:20250422T150043Z
LAST-MODIFIED:20260410T133057Z
UID:10001384-1839870000-1839877200@www.badabeanbadabooze.com
SUMMARY:Off The Record: Jazz Night at the Quarry
DESCRIPTION:Introducing Off the Record—a new Thursday tradition at our Quarry Trails location.Join us weekly from 7–9 PM for intimate live jazz sessions\, curated cocktails\, and chill night-out energy. \n$25 bottles of select wines! \nonly on Thursdays during bar hours (4-10 PM)
URL:https://www.badabeanbadabooze.com/event/off-the-record-jazz-night-at-the-quarry/2028-04-20/
LOCATION:Quarry Trails\, 2157 Quarry Trails Drive\, Columbus\, OH\, 43228\, United States
ATTACH;FMTTYPE=image/png:https://www.badabeanbadabooze.com/wp-content/uploads/2025/04/TH_BADA_OffTheRecordWEBSITEGRAPHIC_042225_v4A.png
GEO:39.9984040063;-83.0838202362
X-APPLE-STRUCTURED-LOCATION;VALUE=URI;X-ADDRESS=Quarry Trails 2157 Quarry Trails Drive Columbus OH 43228 United States;X-APPLE-RADIUS=500;X-TITLE=2157 Quarry Trails Drive:geo:-83.0838202362,39.9984040063
END:VEVENT
BEGIN:VEVENT
DTSTART;TZID=America/New_York:20280424T190000
DTEND;TZID=America/New_York:20280424T210000
DTSTAMP:20260425T235329
CREATED:20250903T192832Z
LAST-MODIFIED:20250903T192832Z
UID:10001647-1840215600-1840222800@www.badabeanbadabooze.com
SUMMARY:Trivia Night at Quarry Trails
DESCRIPTION:Bring your crew and your brainpower to our new weekly trivia at Quarry Trails. Fast-paced rounds\, pop-culture to deep cuts\, and prizes for the top teams. It’s free to play\, team-friendly\, and perfect for a midweek hang. \nSettle in with lattes\, cocktails\, and snacks from the bar while you compete. Walk in\, grab a table\, and game on. \nFREE TO PLAY
URL:https://www.badabeanbadabooze.com/event/trivia-night-at-quarry-trails/2028-04-24/
LOCATION:Quarry Trails\, 2157 Quarry Trails Drive\, Columbus\, OH\, 43228\, United States
CATEGORIES:Trivia
ATTACH;FMTTYPE=image/jpeg:https://www.badabeanbadabooze.com/wp-content/uploads/2025/09/QT_TRIVIA-WEBSITE-GRAP-1.jpg
GEO:39.9984040063;-83.0838202362
X-APPLE-STRUCTURED-LOCATION;VALUE=URI;X-ADDRESS=Quarry Trails 2157 Quarry Trails Drive Columbus OH 43228 United States;X-APPLE-RADIUS=500;X-TITLE=2157 Quarry Trails Drive:geo:-83.0838202362,39.9984040063
END:VEVENT
BEGIN:VEVENT
DTSTART;TZID=America/New_York:20280425T180000
DTEND;TZID=America/New_York:20280425T200000
DTSTAMP:20260425T235329
CREATED:20250112T174545Z
LAST-MODIFIED:20251119T174358Z
UID:10000183-1840298400-1840305600@www.badabeanbadabooze.com
SUMMARY:Trivia Twoozeday
DESCRIPTION:Trivia Twoozeday! Show up early and take advantage of our great Happy Hour specials. Consider it as a lubricant for the brain. Trivia starts at 6pm until 8pm!
URL:https://www.badabeanbadabooze.com/event/trivia-twoozedays/2028-04-25/
LOCATION:Italian Village\, 231 E 1st Ave\, Columbus\, OH\, 43215\, United States
ATTACH;FMTTYPE=image/png:https://www.badabeanbadabooze.com/wp-content/uploads/2025/01/TH_BADA_TriviaWebsiteGraphic1080x1080_041525_v3A-1.png
END:VEVENT
BEGIN:VEVENT
DTSTART;TZID=America/New_York:20280427T190000
DTEND;TZID=America/New_York:20280427T210000
DTSTAMP:20260425T235329
CREATED:20250422T150043Z
LAST-MODIFIED:20260410T133057Z
UID:10001385-1840474800-1840482000@www.badabeanbadabooze.com
SUMMARY:Off The Record: Jazz Night at the Quarry
DESCRIPTION:Introducing Off the Record—a new Thursday tradition at our Quarry Trails location.Join us weekly from 7–9 PM for intimate live jazz sessions\, curated cocktails\, and chill night-out energy. \n$25 bottles of select wines! \nonly on Thursdays during bar hours (4-10 PM)
URL:https://www.badabeanbadabooze.com/event/off-the-record-jazz-night-at-the-quarry/2028-04-27/
LOCATION:Quarry Trails\, 2157 Quarry Trails Drive\, Columbus\, OH\, 43228\, United States
ATTACH;FMTTYPE=image/png:https://www.badabeanbadabooze.com/wp-content/uploads/2025/04/TH_BADA_OffTheRecordWEBSITEGRAPHIC_042225_v4A.png
GEO:39.9984040063;-83.0838202362
X-APPLE-STRUCTURED-LOCATION;VALUE=URI;X-ADDRESS=Quarry Trails 2157 Quarry Trails Drive Columbus OH 43228 United States;X-APPLE-RADIUS=500;X-TITLE=2157 Quarry Trails Drive:geo:-83.0838202362,39.9984040063
END:VEVENT
END:VCALENDAR