BEGIN:VCALENDAR
VERSION:2.0
PRODID:-//Bada Bean Bada Booze - ECPv6.15.20//NONSGML v1.0//EN
CALSCALE:GREGORIAN
METHOD:PUBLISH
X-ORIGINAL-URL:https://www.badabeanbadabooze.com
X-WR-CALDESC:Events for Bada Bean Bada Booze
REFRESH-INTERVAL;VALUE=DURATION:PT1H
X-Robots-Tag:noindex
X-PUBLISHED-TTL:PT1H
BEGIN:VTIMEZONE
TZID:America/New_York
BEGIN:DAYLIGHT
TZOFFSETFROM:-0500
TZOFFSETTO:-0400
TZNAME:EDT
DTSTART:20270314T070000
END:DAYLIGHT
BEGIN:STANDARD
TZOFFSETFROM:-0400
TZOFFSETTO:-0500
TZNAME:EST
DTSTART:20271107T060000
END:STANDARD
BEGIN:DAYLIGHT
TZOFFSETFROM:-0500
TZOFFSETTO:-0400
TZNAME:EDT
DTSTART:20280312T070000
END:DAYLIGHT
BEGIN:STANDARD
TZOFFSETFROM:-0400
TZOFFSETTO:-0500
TZNAME:EST
DTSTART:20281105T060000
END:STANDARD
BEGIN:DAYLIGHT
TZOFFSETFROM:-0500
TZOFFSETTO:-0400
TZNAME:EDT
DTSTART:20290311T070000
END:DAYLIGHT
BEGIN:STANDARD
TZOFFSETFROM:-0400
TZOFFSETTO:-0500
TZNAME:EST
DTSTART:20291104T060000
END:STANDARD
END:VTIMEZONE
BEGIN:VEVENT
DTSTART;TZID=America/New_York:20280302T190000
DTEND;TZID=America/New_York:20280302T210000
DTSTAMP:20260425T221013
CREATED:20250422T150043Z
LAST-MODIFIED:20260410T133057Z
UID:10001377-1835636400-1835643600@www.badabeanbadabooze.com
SUMMARY:Off The Record: Jazz Night at the Quarry
DESCRIPTION:Introducing Off the Record—a new Thursday tradition at our Quarry Trails location.Join us weekly from 7–9 PM for intimate live jazz sessions\, curated cocktails\, and chill night-out energy. \n$25 bottles of select wines! \nonly on Thursdays during bar hours (4-10 PM)
URL:https://www.badabeanbadabooze.com/event/off-the-record-jazz-night-at-the-quarry/2028-03-02/
LOCATION:Quarry Trails\, 2157 Quarry Trails Drive\, Columbus\, OH\, 43228\, United States
ATTACH;FMTTYPE=image/png:https://www.badabeanbadabooze.com/wp-content/uploads/2025/04/TH_BADA_OffTheRecordWEBSITEGRAPHIC_042225_v4A.png
GEO:39.9984040063;-83.0838202362
X-APPLE-STRUCTURED-LOCATION;VALUE=URI;X-ADDRESS=Quarry Trails 2157 Quarry Trails Drive Columbus OH 43228 United States;X-APPLE-RADIUS=500;X-TITLE=2157 Quarry Trails Drive:geo:-83.0838202362,39.9984040063
END:VEVENT
BEGIN:VEVENT
DTSTART;TZID=America/New_York:20280306T190000
DTEND;TZID=America/New_York:20280306T210000
DTSTAMP:20260425T221013
CREATED:20250903T192832Z
LAST-MODIFIED:20250903T192832Z
UID:10001640-1835982000-1835989200@www.badabeanbadabooze.com
SUMMARY:Trivia Night at Quarry Trails
DESCRIPTION:Bring your crew and your brainpower to our new weekly trivia at Quarry Trails. Fast-paced rounds\, pop-culture to deep cuts\, and prizes for the top teams. It’s free to play\, team-friendly\, and perfect for a midweek hang. \nSettle in with lattes\, cocktails\, and snacks from the bar while you compete. Walk in\, grab a table\, and game on. \nFREE TO PLAY
URL:https://www.badabeanbadabooze.com/event/trivia-night-at-quarry-trails/2028-03-06/
LOCATION:Quarry Trails\, 2157 Quarry Trails Drive\, Columbus\, OH\, 43228\, United States
CATEGORIES:Trivia
ATTACH;FMTTYPE=image/jpeg:https://www.badabeanbadabooze.com/wp-content/uploads/2025/09/QT_TRIVIA-WEBSITE-GRAP-1.jpg
GEO:39.9984040063;-83.0838202362
X-APPLE-STRUCTURED-LOCATION;VALUE=URI;X-ADDRESS=Quarry Trails 2157 Quarry Trails Drive Columbus OH 43228 United States;X-APPLE-RADIUS=500;X-TITLE=2157 Quarry Trails Drive:geo:-83.0838202362,39.9984040063
END:VEVENT
BEGIN:VEVENT
DTSTART;TZID=America/New_York:20280307T180000
DTEND;TZID=America/New_York:20280307T200000
DTSTAMP:20260425T221013
CREATED:20250112T174545Z
LAST-MODIFIED:20251119T174358Z
UID:10000176-1836064800-1836072000@www.badabeanbadabooze.com
SUMMARY:Trivia Twoozeday
DESCRIPTION:Trivia Twoozeday! Show up early and take advantage of our great Happy Hour specials. Consider it as a lubricant for the brain. Trivia starts at 6pm until 8pm!
URL:https://www.badabeanbadabooze.com/event/trivia-twoozedays/2028-03-07/
LOCATION:Italian Village\, 231 E 1st Ave\, Columbus\, OH\, 43215\, United States
ATTACH;FMTTYPE=image/png:https://www.badabeanbadabooze.com/wp-content/uploads/2025/01/TH_BADA_TriviaWebsiteGraphic1080x1080_041525_v3A-1.png
END:VEVENT
BEGIN:VEVENT
DTSTART;TZID=America/New_York:20280309T190000
DTEND;TZID=America/New_York:20280309T210000
DTSTAMP:20260425T221013
CREATED:20250422T150043Z
LAST-MODIFIED:20260410T133057Z
UID:10001378-1836241200-1836248400@www.badabeanbadabooze.com
SUMMARY:Off The Record: Jazz Night at the Quarry
DESCRIPTION:Introducing Off the Record—a new Thursday tradition at our Quarry Trails location.Join us weekly from 7–9 PM for intimate live jazz sessions\, curated cocktails\, and chill night-out energy. \n$25 bottles of select wines! \nonly on Thursdays during bar hours (4-10 PM)
URL:https://www.badabeanbadabooze.com/event/off-the-record-jazz-night-at-the-quarry/2028-03-09/
LOCATION:Quarry Trails\, 2157 Quarry Trails Drive\, Columbus\, OH\, 43228\, United States
ATTACH;FMTTYPE=image/png:https://www.badabeanbadabooze.com/wp-content/uploads/2025/04/TH_BADA_OffTheRecordWEBSITEGRAPHIC_042225_v4A.png
GEO:39.9984040063;-83.0838202362
X-APPLE-STRUCTURED-LOCATION;VALUE=URI;X-ADDRESS=Quarry Trails 2157 Quarry Trails Drive Columbus OH 43228 United States;X-APPLE-RADIUS=500;X-TITLE=2157 Quarry Trails Drive:geo:-83.0838202362,39.9984040063
END:VEVENT
BEGIN:VEVENT
DTSTART;TZID=America/New_York:20280313T190000
DTEND;TZID=America/New_York:20280313T210000
DTSTAMP:20260425T221013
CREATED:20250903T192832Z
LAST-MODIFIED:20250903T192832Z
UID:10001641-1836586800-1836594000@www.badabeanbadabooze.com
SUMMARY:Trivia Night at Quarry Trails
DESCRIPTION:Bring your crew and your brainpower to our new weekly trivia at Quarry Trails. Fast-paced rounds\, pop-culture to deep cuts\, and prizes for the top teams. It’s free to play\, team-friendly\, and perfect for a midweek hang. \nSettle in with lattes\, cocktails\, and snacks from the bar while you compete. Walk in\, grab a table\, and game on. \nFREE TO PLAY
URL:https://www.badabeanbadabooze.com/event/trivia-night-at-quarry-trails/2028-03-13/
LOCATION:Quarry Trails\, 2157 Quarry Trails Drive\, Columbus\, OH\, 43228\, United States
CATEGORIES:Trivia
ATTACH;FMTTYPE=image/jpeg:https://www.badabeanbadabooze.com/wp-content/uploads/2025/09/QT_TRIVIA-WEBSITE-GRAP-1.jpg
GEO:39.9984040063;-83.0838202362
X-APPLE-STRUCTURED-LOCATION;VALUE=URI;X-ADDRESS=Quarry Trails 2157 Quarry Trails Drive Columbus OH 43228 United States;X-APPLE-RADIUS=500;X-TITLE=2157 Quarry Trails Drive:geo:-83.0838202362,39.9984040063
END:VEVENT
BEGIN:VEVENT
DTSTART;TZID=America/New_York:20280314T180000
DTEND;TZID=America/New_York:20280314T200000
DTSTAMP:20260425T221013
CREATED:20250112T174545Z
LAST-MODIFIED:20251119T174358Z
UID:10000177-1836669600-1836676800@www.badabeanbadabooze.com
SUMMARY:Trivia Twoozeday
DESCRIPTION:Trivia Twoozeday! Show up early and take advantage of our great Happy Hour specials. Consider it as a lubricant for the brain. Trivia starts at 6pm until 8pm!
URL:https://www.badabeanbadabooze.com/event/trivia-twoozedays/2028-03-14/
LOCATION:Italian Village\, 231 E 1st Ave\, Columbus\, OH\, 43215\, United States
ATTACH;FMTTYPE=image/png:https://www.badabeanbadabooze.com/wp-content/uploads/2025/01/TH_BADA_TriviaWebsiteGraphic1080x1080_041525_v3A-1.png
END:VEVENT
BEGIN:VEVENT
DTSTART;TZID=America/New_York:20280316T190000
DTEND;TZID=America/New_York:20280316T210000
DTSTAMP:20260425T221013
CREATED:20250422T150043Z
LAST-MODIFIED:20260410T133057Z
UID:10001379-1836846000-1836853200@www.badabeanbadabooze.com
SUMMARY:Off The Record: Jazz Night at the Quarry
DESCRIPTION:Introducing Off the Record—a new Thursday tradition at our Quarry Trails location.Join us weekly from 7–9 PM for intimate live jazz sessions\, curated cocktails\, and chill night-out energy. \n$25 bottles of select wines! \nonly on Thursdays during bar hours (4-10 PM)
URL:https://www.badabeanbadabooze.com/event/off-the-record-jazz-night-at-the-quarry/2028-03-16/
LOCATION:Quarry Trails\, 2157 Quarry Trails Drive\, Columbus\, OH\, 43228\, United States
ATTACH;FMTTYPE=image/png:https://www.badabeanbadabooze.com/wp-content/uploads/2025/04/TH_BADA_OffTheRecordWEBSITEGRAPHIC_042225_v4A.png
GEO:39.9984040063;-83.0838202362
X-APPLE-STRUCTURED-LOCATION;VALUE=URI;X-ADDRESS=Quarry Trails 2157 Quarry Trails Drive Columbus OH 43228 United States;X-APPLE-RADIUS=500;X-TITLE=2157 Quarry Trails Drive:geo:-83.0838202362,39.9984040063
END:VEVENT
BEGIN:VEVENT
DTSTART;TZID=America/New_York:20280320T190000
DTEND;TZID=America/New_York:20280320T210000
DTSTAMP:20260425T221013
CREATED:20250903T192832Z
LAST-MODIFIED:20250903T192832Z
UID:10001642-1837191600-1837198800@www.badabeanbadabooze.com
SUMMARY:Trivia Night at Quarry Trails
DESCRIPTION:Bring your crew and your brainpower to our new weekly trivia at Quarry Trails. Fast-paced rounds\, pop-culture to deep cuts\, and prizes for the top teams. It’s free to play\, team-friendly\, and perfect for a midweek hang. \nSettle in with lattes\, cocktails\, and snacks from the bar while you compete. Walk in\, grab a table\, and game on. \nFREE TO PLAY
URL:https://www.badabeanbadabooze.com/event/trivia-night-at-quarry-trails/2028-03-20/
LOCATION:Quarry Trails\, 2157 Quarry Trails Drive\, Columbus\, OH\, 43228\, United States
CATEGORIES:Trivia
ATTACH;FMTTYPE=image/jpeg:https://www.badabeanbadabooze.com/wp-content/uploads/2025/09/QT_TRIVIA-WEBSITE-GRAP-1.jpg
GEO:39.9984040063;-83.0838202362
X-APPLE-STRUCTURED-LOCATION;VALUE=URI;X-ADDRESS=Quarry Trails 2157 Quarry Trails Drive Columbus OH 43228 United States;X-APPLE-RADIUS=500;X-TITLE=2157 Quarry Trails Drive:geo:-83.0838202362,39.9984040063
END:VEVENT
BEGIN:VEVENT
DTSTART;TZID=America/New_York:20280321T180000
DTEND;TZID=America/New_York:20280321T200000
DTSTAMP:20260425T221013
CREATED:20250112T174545Z
LAST-MODIFIED:20251119T174358Z
UID:10000178-1837274400-1837281600@www.badabeanbadabooze.com
SUMMARY:Trivia Twoozeday
DESCRIPTION:Trivia Twoozeday! Show up early and take advantage of our great Happy Hour specials. Consider it as a lubricant for the brain. Trivia starts at 6pm until 8pm!
URL:https://www.badabeanbadabooze.com/event/trivia-twoozedays/2028-03-21/
LOCATION:Italian Village\, 231 E 1st Ave\, Columbus\, OH\, 43215\, United States
ATTACH;FMTTYPE=image/png:https://www.badabeanbadabooze.com/wp-content/uploads/2025/01/TH_BADA_TriviaWebsiteGraphic1080x1080_041525_v3A-1.png
END:VEVENT
BEGIN:VEVENT
DTSTART;TZID=America/New_York:20280323T190000
DTEND;TZID=America/New_York:20280323T210000
DTSTAMP:20260425T221013
CREATED:20250422T150043Z
LAST-MODIFIED:20260410T133057Z
UID:10001380-1837450800-1837458000@www.badabeanbadabooze.com
SUMMARY:Off The Record: Jazz Night at the Quarry
DESCRIPTION:Introducing Off the Record—a new Thursday tradition at our Quarry Trails location.Join us weekly from 7–9 PM for intimate live jazz sessions\, curated cocktails\, and chill night-out energy. \n$25 bottles of select wines! \nonly on Thursdays during bar hours (4-10 PM)
URL:https://www.badabeanbadabooze.com/event/off-the-record-jazz-night-at-the-quarry/2028-03-23/
LOCATION:Quarry Trails\, 2157 Quarry Trails Drive\, Columbus\, OH\, 43228\, United States
ATTACH;FMTTYPE=image/png:https://www.badabeanbadabooze.com/wp-content/uploads/2025/04/TH_BADA_OffTheRecordWEBSITEGRAPHIC_042225_v4A.png
GEO:39.9984040063;-83.0838202362
X-APPLE-STRUCTURED-LOCATION;VALUE=URI;X-ADDRESS=Quarry Trails 2157 Quarry Trails Drive Columbus OH 43228 United States;X-APPLE-RADIUS=500;X-TITLE=2157 Quarry Trails Drive:geo:-83.0838202362,39.9984040063
END:VEVENT
BEGIN:VEVENT
DTSTART;TZID=America/New_York:20280327T190000
DTEND;TZID=America/New_York:20280327T210000
DTSTAMP:20260425T221013
CREATED:20250903T192832Z
LAST-MODIFIED:20250903T192832Z
UID:10001643-1837796400-1837803600@www.badabeanbadabooze.com
SUMMARY:Trivia Night at Quarry Trails
DESCRIPTION:Bring your crew and your brainpower to our new weekly trivia at Quarry Trails. Fast-paced rounds\, pop-culture to deep cuts\, and prizes for the top teams. It’s free to play\, team-friendly\, and perfect for a midweek hang. \nSettle in with lattes\, cocktails\, and snacks from the bar while you compete. Walk in\, grab a table\, and game on. \nFREE TO PLAY
URL:https://www.badabeanbadabooze.com/event/trivia-night-at-quarry-trails/2028-03-27/
LOCATION:Quarry Trails\, 2157 Quarry Trails Drive\, Columbus\, OH\, 43228\, United States
CATEGORIES:Trivia
ATTACH;FMTTYPE=image/jpeg:https://www.badabeanbadabooze.com/wp-content/uploads/2025/09/QT_TRIVIA-WEBSITE-GRAP-1.jpg
GEO:39.9984040063;-83.0838202362
X-APPLE-STRUCTURED-LOCATION;VALUE=URI;X-ADDRESS=Quarry Trails 2157 Quarry Trails Drive Columbus OH 43228 United States;X-APPLE-RADIUS=500;X-TITLE=2157 Quarry Trails Drive:geo:-83.0838202362,39.9984040063
END:VEVENT
BEGIN:VEVENT
DTSTART;TZID=America/New_York:20280328T180000
DTEND;TZID=America/New_York:20280328T200000
DTSTAMP:20260425T221013
CREATED:20250112T174545Z
LAST-MODIFIED:20251119T174358Z
UID:10000179-1837879200-1837886400@www.badabeanbadabooze.com
SUMMARY:Trivia Twoozeday
DESCRIPTION:Trivia Twoozeday! Show up early and take advantage of our great Happy Hour specials. Consider it as a lubricant for the brain. Trivia starts at 6pm until 8pm!
URL:https://www.badabeanbadabooze.com/event/trivia-twoozedays/2028-03-28/
LOCATION:Italian Village\, 231 E 1st Ave\, Columbus\, OH\, 43215\, United States
ATTACH;FMTTYPE=image/png:https://www.badabeanbadabooze.com/wp-content/uploads/2025/01/TH_BADA_TriviaWebsiteGraphic1080x1080_041525_v3A-1.png
END:VEVENT
BEGIN:VEVENT
DTSTART;TZID=America/New_York:20280330T190000
DTEND;TZID=America/New_York:20280330T210000
DTSTAMP:20260425T221013
CREATED:20250422T150043Z
LAST-MODIFIED:20260410T133057Z
UID:10001381-1838055600-1838062800@www.badabeanbadabooze.com
SUMMARY:Off The Record: Jazz Night at the Quarry
DESCRIPTION:Introducing Off the Record—a new Thursday tradition at our Quarry Trails location.Join us weekly from 7–9 PM for intimate live jazz sessions\, curated cocktails\, and chill night-out energy. \n$25 bottles of select wines! \nonly on Thursdays during bar hours (4-10 PM)
URL:https://www.badabeanbadabooze.com/event/off-the-record-jazz-night-at-the-quarry/2028-03-30/
LOCATION:Quarry Trails\, 2157 Quarry Trails Drive\, Columbus\, OH\, 43228\, United States
ATTACH;FMTTYPE=image/png:https://www.badabeanbadabooze.com/wp-content/uploads/2025/04/TH_BADA_OffTheRecordWEBSITEGRAPHIC_042225_v4A.png
GEO:39.9984040063;-83.0838202362
X-APPLE-STRUCTURED-LOCATION;VALUE=URI;X-ADDRESS=Quarry Trails 2157 Quarry Trails Drive Columbus OH 43228 United States;X-APPLE-RADIUS=500;X-TITLE=2157 Quarry Trails Drive:geo:-83.0838202362,39.9984040063
END:VEVENT
END:VCALENDAR