BEGIN:VCALENDAR
VERSION:2.0
PRODID:-//Bada Bean Bada Booze - ECPv6.15.20//NONSGML v1.0//EN
CALSCALE:GREGORIAN
METHOD:PUBLISH
X-WR-CALNAME:Bada Bean Bada Booze
X-ORIGINAL-URL:https://www.badabeanbadabooze.com
X-WR-CALDESC:Events for Bada Bean Bada Booze
REFRESH-INTERVAL;VALUE=DURATION:PT1H
X-Robots-Tag:noindex
X-PUBLISHED-TTL:PT1H
BEGIN:VTIMEZONE
TZID:America/New_York
BEGIN:DAYLIGHT
TZOFFSETFROM:-0500
TZOFFSETTO:-0400
TZNAME:EDT
DTSTART:20260308T070000
END:DAYLIGHT
BEGIN:STANDARD
TZOFFSETFROM:-0400
TZOFFSETTO:-0500
TZNAME:EST
DTSTART:20261101T060000
END:STANDARD
BEGIN:DAYLIGHT
TZOFFSETFROM:-0500
TZOFFSETTO:-0400
TZNAME:EDT
DTSTART:20270314T070000
END:DAYLIGHT
BEGIN:STANDARD
TZOFFSETFROM:-0400
TZOFFSETTO:-0500
TZNAME:EST
DTSTART:20271107T060000
END:STANDARD
BEGIN:DAYLIGHT
TZOFFSETFROM:-0500
TZOFFSETTO:-0400
TZNAME:EDT
DTSTART:20280312T070000
END:DAYLIGHT
BEGIN:STANDARD
TZOFFSETFROM:-0400
TZOFFSETTO:-0500
TZNAME:EST
DTSTART:20281105T060000
END:STANDARD
END:VTIMEZONE
BEGIN:VEVENT
DTSTART;TZID=America/New_York:20270104T190000
DTEND;TZID=America/New_York:20270104T210000
DTSTAMP:20260424T162956
CREATED:20250903T192832Z
LAST-MODIFIED:20250903T192832Z
UID:10001579-1799089200-1799096400@www.badabeanbadabooze.com
SUMMARY:Trivia Night at Quarry Trails
DESCRIPTION:Bring your crew and your brainpower to our new weekly trivia at Quarry Trails. Fast-paced rounds\, pop-culture to deep cuts\, and prizes for the top teams. It’s free to play\, team-friendly\, and perfect for a midweek hang. \nSettle in with lattes\, cocktails\, and snacks from the bar while you compete. Walk in\, grab a table\, and game on. \nFREE TO PLAY
URL:https://www.badabeanbadabooze.com/event/trivia-night-at-quarry-trails/2027-01-04/
LOCATION:Quarry Trails\, 2157 Quarry Trails Drive\, Columbus\, OH\, 43228\, United States
CATEGORIES:Trivia
ATTACH;FMTTYPE=image/jpeg:https://www.badabeanbadabooze.com/wp-content/uploads/2025/09/QT_TRIVIA-WEBSITE-GRAP-1.jpg
GEO:39.9984040063;-83.0838202362
X-APPLE-STRUCTURED-LOCATION;VALUE=URI;X-ADDRESS=Quarry Trails 2157 Quarry Trails Drive Columbus OH 43228 United States;X-APPLE-RADIUS=500;X-TITLE=2157 Quarry Trails Drive:geo:-83.0838202362,39.9984040063
END:VEVENT
BEGIN:VEVENT
DTSTART;TZID=America/New_York:20270105T180000
DTEND;TZID=America/New_York:20270105T200000
DTSTAMP:20260424T162956
CREATED:20250112T174545Z
LAST-MODIFIED:20251119T174358Z
UID:10000115-1799172000-1799179200@www.badabeanbadabooze.com
SUMMARY:Trivia Twoozeday
DESCRIPTION:Trivia Twoozeday! Show up early and take advantage of our great Happy Hour specials. Consider it as a lubricant for the brain. Trivia starts at 6pm until 8pm!
URL:https://www.badabeanbadabooze.com/event/trivia-twoozedays/2027-01-05/
LOCATION:Italian Village\, 231 E 1st Ave\, Columbus\, OH\, 43215\, United States
ATTACH;FMTTYPE=image/png:https://www.badabeanbadabooze.com/wp-content/uploads/2025/01/TH_BADA_TriviaWebsiteGraphic1080x1080_041525_v3A-1.png
END:VEVENT
BEGIN:VEVENT
DTSTART;TZID=America/New_York:20270107T190000
DTEND;TZID=America/New_York:20270107T210000
DTSTAMP:20260424T162956
CREATED:20250422T150043Z
LAST-MODIFIED:20260410T133057Z
UID:10001317-1799348400-1799355600@www.badabeanbadabooze.com
SUMMARY:Off The Record: Jazz Night at the Quarry
DESCRIPTION:Introducing Off the Record—a new Thursday tradition at our Quarry Trails location.Join us weekly from 7–9 PM for intimate live jazz sessions\, curated cocktails\, and chill night-out energy. \n$25 bottles of select wines! \nonly on Thursdays during bar hours (4-10 PM)
URL:https://www.badabeanbadabooze.com/event/off-the-record-jazz-night-at-the-quarry/2027-01-07/
LOCATION:Quarry Trails\, 2157 Quarry Trails Drive\, Columbus\, OH\, 43228\, United States
ATTACH;FMTTYPE=image/png:https://www.badabeanbadabooze.com/wp-content/uploads/2025/04/TH_BADA_OffTheRecordWEBSITEGRAPHIC_042225_v4A.png
GEO:39.9984040063;-83.0838202362
X-APPLE-STRUCTURED-LOCATION;VALUE=URI;X-ADDRESS=Quarry Trails 2157 Quarry Trails Drive Columbus OH 43228 United States;X-APPLE-RADIUS=500;X-TITLE=2157 Quarry Trails Drive:geo:-83.0838202362,39.9984040063
END:VEVENT
BEGIN:VEVENT
DTSTART;TZID=America/New_York:20270111T190000
DTEND;TZID=America/New_York:20270111T210000
DTSTAMP:20260424T162956
CREATED:20250903T192832Z
LAST-MODIFIED:20250903T192832Z
UID:10001580-1799694000-1799701200@www.badabeanbadabooze.com
SUMMARY:Trivia Night at Quarry Trails
DESCRIPTION:Bring your crew and your brainpower to our new weekly trivia at Quarry Trails. Fast-paced rounds\, pop-culture to deep cuts\, and prizes for the top teams. It’s free to play\, team-friendly\, and perfect for a midweek hang. \nSettle in with lattes\, cocktails\, and snacks from the bar while you compete. Walk in\, grab a table\, and game on. \nFREE TO PLAY
URL:https://www.badabeanbadabooze.com/event/trivia-night-at-quarry-trails/2027-01-11/
LOCATION:Quarry Trails\, 2157 Quarry Trails Drive\, Columbus\, OH\, 43228\, United States
CATEGORIES:Trivia
ATTACH;FMTTYPE=image/jpeg:https://www.badabeanbadabooze.com/wp-content/uploads/2025/09/QT_TRIVIA-WEBSITE-GRAP-1.jpg
GEO:39.9984040063;-83.0838202362
X-APPLE-STRUCTURED-LOCATION;VALUE=URI;X-ADDRESS=Quarry Trails 2157 Quarry Trails Drive Columbus OH 43228 United States;X-APPLE-RADIUS=500;X-TITLE=2157 Quarry Trails Drive:geo:-83.0838202362,39.9984040063
END:VEVENT
BEGIN:VEVENT
DTSTART;TZID=America/New_York:20270112T180000
DTEND;TZID=America/New_York:20270112T200000
DTSTAMP:20260424T162956
CREATED:20250112T174545Z
LAST-MODIFIED:20251119T174358Z
UID:10000116-1799776800-1799784000@www.badabeanbadabooze.com
SUMMARY:Trivia Twoozeday
DESCRIPTION:Trivia Twoozeday! Show up early and take advantage of our great Happy Hour specials. Consider it as a lubricant for the brain. Trivia starts at 6pm until 8pm!
URL:https://www.badabeanbadabooze.com/event/trivia-twoozedays/2027-01-12/
LOCATION:Italian Village\, 231 E 1st Ave\, Columbus\, OH\, 43215\, United States
ATTACH;FMTTYPE=image/png:https://www.badabeanbadabooze.com/wp-content/uploads/2025/01/TH_BADA_TriviaWebsiteGraphic1080x1080_041525_v3A-1.png
END:VEVENT
BEGIN:VEVENT
DTSTART;TZID=America/New_York:20270114T190000
DTEND;TZID=America/New_York:20270114T210000
DTSTAMP:20260424T162956
CREATED:20250422T150043Z
LAST-MODIFIED:20260410T133057Z
UID:10001318-1799953200-1799960400@www.badabeanbadabooze.com
SUMMARY:Off The Record: Jazz Night at the Quarry
DESCRIPTION:Introducing Off the Record—a new Thursday tradition at our Quarry Trails location.Join us weekly from 7–9 PM for intimate live jazz sessions\, curated cocktails\, and chill night-out energy. \n$25 bottles of select wines! \nonly on Thursdays during bar hours (4-10 PM)
URL:https://www.badabeanbadabooze.com/event/off-the-record-jazz-night-at-the-quarry/2027-01-14/
LOCATION:Quarry Trails\, 2157 Quarry Trails Drive\, Columbus\, OH\, 43228\, United States
ATTACH;FMTTYPE=image/png:https://www.badabeanbadabooze.com/wp-content/uploads/2025/04/TH_BADA_OffTheRecordWEBSITEGRAPHIC_042225_v4A.png
GEO:39.9984040063;-83.0838202362
X-APPLE-STRUCTURED-LOCATION;VALUE=URI;X-ADDRESS=Quarry Trails 2157 Quarry Trails Drive Columbus OH 43228 United States;X-APPLE-RADIUS=500;X-TITLE=2157 Quarry Trails Drive:geo:-83.0838202362,39.9984040063
END:VEVENT
BEGIN:VEVENT
DTSTART;TZID=America/New_York:20270118T190000
DTEND;TZID=America/New_York:20270118T210000
DTSTAMP:20260424T162956
CREATED:20250903T192832Z
LAST-MODIFIED:20250903T192832Z
UID:10001581-1800298800-1800306000@www.badabeanbadabooze.com
SUMMARY:Trivia Night at Quarry Trails
DESCRIPTION:Bring your crew and your brainpower to our new weekly trivia at Quarry Trails. Fast-paced rounds\, pop-culture to deep cuts\, and prizes for the top teams. It’s free to play\, team-friendly\, and perfect for a midweek hang. \nSettle in with lattes\, cocktails\, and snacks from the bar while you compete. Walk in\, grab a table\, and game on. \nFREE TO PLAY
URL:https://www.badabeanbadabooze.com/event/trivia-night-at-quarry-trails/2027-01-18/
LOCATION:Quarry Trails\, 2157 Quarry Trails Drive\, Columbus\, OH\, 43228\, United States
CATEGORIES:Trivia
ATTACH;FMTTYPE=image/jpeg:https://www.badabeanbadabooze.com/wp-content/uploads/2025/09/QT_TRIVIA-WEBSITE-GRAP-1.jpg
GEO:39.9984040063;-83.0838202362
X-APPLE-STRUCTURED-LOCATION;VALUE=URI;X-ADDRESS=Quarry Trails 2157 Quarry Trails Drive Columbus OH 43228 United States;X-APPLE-RADIUS=500;X-TITLE=2157 Quarry Trails Drive:geo:-83.0838202362,39.9984040063
END:VEVENT
BEGIN:VEVENT
DTSTART;TZID=America/New_York:20270119T180000
DTEND;TZID=America/New_York:20270119T200000
DTSTAMP:20260424T162956
CREATED:20250112T174545Z
LAST-MODIFIED:20251119T174358Z
UID:10000117-1800381600-1800388800@www.badabeanbadabooze.com
SUMMARY:Trivia Twoozeday
DESCRIPTION:Trivia Twoozeday! Show up early and take advantage of our great Happy Hour specials. Consider it as a lubricant for the brain. Trivia starts at 6pm until 8pm!
URL:https://www.badabeanbadabooze.com/event/trivia-twoozedays/2027-01-19/
LOCATION:Italian Village\, 231 E 1st Ave\, Columbus\, OH\, 43215\, United States
ATTACH;FMTTYPE=image/png:https://www.badabeanbadabooze.com/wp-content/uploads/2025/01/TH_BADA_TriviaWebsiteGraphic1080x1080_041525_v3A-1.png
END:VEVENT
BEGIN:VEVENT
DTSTART;TZID=America/New_York:20270121T190000
DTEND;TZID=America/New_York:20270121T210000
DTSTAMP:20260424T162956
CREATED:20250422T150043Z
LAST-MODIFIED:20260410T133057Z
UID:10001319-1800558000-1800565200@www.badabeanbadabooze.com
SUMMARY:Off The Record: Jazz Night at the Quarry
DESCRIPTION:Introducing Off the Record—a new Thursday tradition at our Quarry Trails location.Join us weekly from 7–9 PM for intimate live jazz sessions\, curated cocktails\, and chill night-out energy. \n$25 bottles of select wines! \nonly on Thursdays during bar hours (4-10 PM)
URL:https://www.badabeanbadabooze.com/event/off-the-record-jazz-night-at-the-quarry/2027-01-21/
LOCATION:Quarry Trails\, 2157 Quarry Trails Drive\, Columbus\, OH\, 43228\, United States
ATTACH;FMTTYPE=image/png:https://www.badabeanbadabooze.com/wp-content/uploads/2025/04/TH_BADA_OffTheRecordWEBSITEGRAPHIC_042225_v4A.png
GEO:39.9984040063;-83.0838202362
X-APPLE-STRUCTURED-LOCATION;VALUE=URI;X-ADDRESS=Quarry Trails 2157 Quarry Trails Drive Columbus OH 43228 United States;X-APPLE-RADIUS=500;X-TITLE=2157 Quarry Trails Drive:geo:-83.0838202362,39.9984040063
END:VEVENT
BEGIN:VEVENT
DTSTART;TZID=America/New_York:20270125T190000
DTEND;TZID=America/New_York:20270125T210000
DTSTAMP:20260424T162956
CREATED:20250903T192832Z
LAST-MODIFIED:20250903T192832Z
UID:10001582-1800903600-1800910800@www.badabeanbadabooze.com
SUMMARY:Trivia Night at Quarry Trails
DESCRIPTION:Bring your crew and your brainpower to our new weekly trivia at Quarry Trails. Fast-paced rounds\, pop-culture to deep cuts\, and prizes for the top teams. It’s free to play\, team-friendly\, and perfect for a midweek hang. \nSettle in with lattes\, cocktails\, and snacks from the bar while you compete. Walk in\, grab a table\, and game on. \nFREE TO PLAY
URL:https://www.badabeanbadabooze.com/event/trivia-night-at-quarry-trails/2027-01-25/
LOCATION:Quarry Trails\, 2157 Quarry Trails Drive\, Columbus\, OH\, 43228\, United States
CATEGORIES:Trivia
ATTACH;FMTTYPE=image/jpeg:https://www.badabeanbadabooze.com/wp-content/uploads/2025/09/QT_TRIVIA-WEBSITE-GRAP-1.jpg
GEO:39.9984040063;-83.0838202362
X-APPLE-STRUCTURED-LOCATION;VALUE=URI;X-ADDRESS=Quarry Trails 2157 Quarry Trails Drive Columbus OH 43228 United States;X-APPLE-RADIUS=500;X-TITLE=2157 Quarry Trails Drive:geo:-83.0838202362,39.9984040063
END:VEVENT
BEGIN:VEVENT
DTSTART;TZID=America/New_York:20270126T180000
DTEND;TZID=America/New_York:20270126T200000
DTSTAMP:20260424T162956
CREATED:20250112T174545Z
LAST-MODIFIED:20251119T174358Z
UID:10000118-1800986400-1800993600@www.badabeanbadabooze.com
SUMMARY:Trivia Twoozeday
DESCRIPTION:Trivia Twoozeday! Show up early and take advantage of our great Happy Hour specials. Consider it as a lubricant for the brain. Trivia starts at 6pm until 8pm!
URL:https://www.badabeanbadabooze.com/event/trivia-twoozedays/2027-01-26/
LOCATION:Italian Village\, 231 E 1st Ave\, Columbus\, OH\, 43215\, United States
ATTACH;FMTTYPE=image/png:https://www.badabeanbadabooze.com/wp-content/uploads/2025/01/TH_BADA_TriviaWebsiteGraphic1080x1080_041525_v3A-1.png
END:VEVENT
BEGIN:VEVENT
DTSTART;TZID=America/New_York:20270128T190000
DTEND;TZID=America/New_York:20270128T210000
DTSTAMP:20260424T162956
CREATED:20250422T150043Z
LAST-MODIFIED:20260410T133057Z
UID:10001320-1801162800-1801170000@www.badabeanbadabooze.com
SUMMARY:Off The Record: Jazz Night at the Quarry
DESCRIPTION:Introducing Off the Record—a new Thursday tradition at our Quarry Trails location.Join us weekly from 7–9 PM for intimate live jazz sessions\, curated cocktails\, and chill night-out energy. \n$25 bottles of select wines! \nonly on Thursdays during bar hours (4-10 PM)
URL:https://www.badabeanbadabooze.com/event/off-the-record-jazz-night-at-the-quarry/2027-01-28/
LOCATION:Quarry Trails\, 2157 Quarry Trails Drive\, Columbus\, OH\, 43228\, United States
ATTACH;FMTTYPE=image/png:https://www.badabeanbadabooze.com/wp-content/uploads/2025/04/TH_BADA_OffTheRecordWEBSITEGRAPHIC_042225_v4A.png
GEO:39.9984040063;-83.0838202362
X-APPLE-STRUCTURED-LOCATION;VALUE=URI;X-ADDRESS=Quarry Trails 2157 Quarry Trails Drive Columbus OH 43228 United States;X-APPLE-RADIUS=500;X-TITLE=2157 Quarry Trails Drive:geo:-83.0838202362,39.9984040063
END:VEVENT
END:VCALENDAR