BEGIN:VCALENDAR
VERSION:2.0
PRODID:-//Bada Bean Bada Booze - ECPv6.15.20//NONSGML v1.0//EN
CALSCALE:GREGORIAN
METHOD:PUBLISH
X-ORIGINAL-URL:https://www.badabeanbadabooze.com
X-WR-CALDESC:Events for Bada Bean Bada Booze
REFRESH-INTERVAL;VALUE=DURATION:PT1H
X-Robots-Tag:noindex
X-PUBLISHED-TTL:PT1H
BEGIN:VTIMEZONE
TZID:America/New_York
BEGIN:DAYLIGHT
TZOFFSETFROM:-0500
TZOFFSETTO:-0400
TZNAME:EDT
DTSTART:20250309T070000
END:DAYLIGHT
BEGIN:STANDARD
TZOFFSETFROM:-0400
TZOFFSETTO:-0500
TZNAME:EST
DTSTART:20251102T060000
END:STANDARD
BEGIN:DAYLIGHT
TZOFFSETFROM:-0500
TZOFFSETTO:-0400
TZNAME:EDT
DTSTART:20260308T070000
END:DAYLIGHT
BEGIN:STANDARD
TZOFFSETFROM:-0400
TZOFFSETTO:-0500
TZNAME:EST
DTSTART:20261101T060000
END:STANDARD
BEGIN:DAYLIGHT
TZOFFSETFROM:-0500
TZOFFSETTO:-0400
TZNAME:EDT
DTSTART:20270314T070000
END:DAYLIGHT
BEGIN:STANDARD
TZOFFSETFROM:-0400
TZOFFSETTO:-0500
TZNAME:EST
DTSTART:20271107T060000
END:STANDARD
END:VTIMEZONE
BEGIN:VEVENT
DTSTART;TZID=America/New_York:20260601T190000
DTEND;TZID=America/New_York:20260601T210000
DTSTAMP:20260424T044302
CREATED:20250903T192832Z
LAST-MODIFIED:20250903T192832Z
UID:10001548-1780340400-1780347600@www.badabeanbadabooze.com
SUMMARY:Trivia Night at Quarry Trails
DESCRIPTION:Bring your crew and your brainpower to our new weekly trivia at Quarry Trails. Fast-paced rounds\, pop-culture to deep cuts\, and prizes for the top teams. It’s free to play\, team-friendly\, and perfect for a midweek hang. \nSettle in with lattes\, cocktails\, and snacks from the bar while you compete. Walk in\, grab a table\, and game on. \nFREE TO PLAY
URL:https://www.badabeanbadabooze.com/event/trivia-night-at-quarry-trails/2026-06-01/
LOCATION:Quarry Trails\, 2157 Quarry Trails Drive\, Columbus\, OH\, 43228\, United States
CATEGORIES:Trivia
ATTACH;FMTTYPE=image/jpeg:https://www.badabeanbadabooze.com/wp-content/uploads/2025/09/QT_TRIVIA-WEBSITE-GRAP-1.jpg
GEO:39.9984040063;-83.0838202362
X-APPLE-STRUCTURED-LOCATION;VALUE=URI;X-ADDRESS=Quarry Trails 2157 Quarry Trails Drive Columbus OH 43228 United States;X-APPLE-RADIUS=500;X-TITLE=2157 Quarry Trails Drive:geo:-83.0838202362,39.9984040063
END:VEVENT
BEGIN:VEVENT
DTSTART;TZID=America/New_York:20260602T180000
DTEND;TZID=America/New_York:20260602T200000
DTSTAMP:20260424T044302
CREATED:20250112T174545Z
LAST-MODIFIED:20251119T174358Z
UID:10000084-1780423200-1780430400@www.badabeanbadabooze.com
SUMMARY:Trivia Twoozeday
DESCRIPTION:Trivia Twoozeday! Show up early and take advantage of our great Happy Hour specials. Consider it as a lubricant for the brain. Trivia starts at 6pm until 8pm!
URL:https://www.badabeanbadabooze.com/event/trivia-twoozedays/2026-06-02/
LOCATION:Italian Village\, 231 E 1st Ave\, Columbus\, OH\, 43215\, United States
ATTACH;FMTTYPE=image/png:https://www.badabeanbadabooze.com/wp-content/uploads/2025/01/TH_BADA_TriviaWebsiteGraphic1080x1080_041525_v3A-1.png
END:VEVENT
BEGIN:VEVENT
DTSTART;TZID=America/New_York:20260604T190000
DTEND;TZID=America/New_York:20260604T210000
DTSTAMP:20260424T044302
CREATED:20250422T150043Z
LAST-MODIFIED:20260410T133057Z
UID:10001286-1780599600-1780606800@www.badabeanbadabooze.com
SUMMARY:Off The Record: Jazz Night at the Quarry
DESCRIPTION:Introducing Off the Record—a new Thursday tradition at our Quarry Trails location.Join us weekly from 7–9 PM for intimate live jazz sessions\, curated cocktails\, and chill night-out energy. \n$25 bottles of select wines! \nonly on Thursdays during bar hours (4-10 PM)
URL:https://www.badabeanbadabooze.com/event/off-the-record-jazz-night-at-the-quarry/2026-06-04/
LOCATION:Quarry Trails\, 2157 Quarry Trails Drive\, Columbus\, OH\, 43228\, United States
ATTACH;FMTTYPE=image/png:https://www.badabeanbadabooze.com/wp-content/uploads/2025/04/TH_BADA_OffTheRecordWEBSITEGRAPHIC_042225_v4A.png
GEO:39.9984040063;-83.0838202362
X-APPLE-STRUCTURED-LOCATION;VALUE=URI;X-ADDRESS=Quarry Trails 2157 Quarry Trails Drive Columbus OH 43228 United States;X-APPLE-RADIUS=500;X-TITLE=2157 Quarry Trails Drive:geo:-83.0838202362,39.9984040063
END:VEVENT
BEGIN:VEVENT
DTSTART;TZID=America/New_York:20260608T190000
DTEND;TZID=America/New_York:20260608T210000
DTSTAMP:20260424T044302
CREATED:20250903T192832Z
LAST-MODIFIED:20250903T192832Z
UID:10001549-1780945200-1780952400@www.badabeanbadabooze.com
SUMMARY:Trivia Night at Quarry Trails
DESCRIPTION:Bring your crew and your brainpower to our new weekly trivia at Quarry Trails. Fast-paced rounds\, pop-culture to deep cuts\, and prizes for the top teams. It’s free to play\, team-friendly\, and perfect for a midweek hang. \nSettle in with lattes\, cocktails\, and snacks from the bar while you compete. Walk in\, grab a table\, and game on. \nFREE TO PLAY
URL:https://www.badabeanbadabooze.com/event/trivia-night-at-quarry-trails/2026-06-08/
LOCATION:Quarry Trails\, 2157 Quarry Trails Drive\, Columbus\, OH\, 43228\, United States
CATEGORIES:Trivia
ATTACH;FMTTYPE=image/jpeg:https://www.badabeanbadabooze.com/wp-content/uploads/2025/09/QT_TRIVIA-WEBSITE-GRAP-1.jpg
GEO:39.9984040063;-83.0838202362
X-APPLE-STRUCTURED-LOCATION;VALUE=URI;X-ADDRESS=Quarry Trails 2157 Quarry Trails Drive Columbus OH 43228 United States;X-APPLE-RADIUS=500;X-TITLE=2157 Quarry Trails Drive:geo:-83.0838202362,39.9984040063
END:VEVENT
BEGIN:VEVENT
DTSTART;TZID=America/New_York:20260609T180000
DTEND;TZID=America/New_York:20260609T200000
DTSTAMP:20260424T044302
CREATED:20250112T174545Z
LAST-MODIFIED:20251119T174358Z
UID:10000085-1781028000-1781035200@www.badabeanbadabooze.com
SUMMARY:Trivia Twoozeday
DESCRIPTION:Trivia Twoozeday! Show up early and take advantage of our great Happy Hour specials. Consider it as a lubricant for the brain. Trivia starts at 6pm until 8pm!
URL:https://www.badabeanbadabooze.com/event/trivia-twoozedays/2026-06-09/
LOCATION:Italian Village\, 231 E 1st Ave\, Columbus\, OH\, 43215\, United States
ATTACH;FMTTYPE=image/png:https://www.badabeanbadabooze.com/wp-content/uploads/2025/01/TH_BADA_TriviaWebsiteGraphic1080x1080_041525_v3A-1.png
END:VEVENT
BEGIN:VEVENT
DTSTART;TZID=America/New_York:20260611T190000
DTEND;TZID=America/New_York:20260611T210000
DTSTAMP:20260424T044302
CREATED:20250422T150043Z
LAST-MODIFIED:20260410T133057Z
UID:10001287-1781204400-1781211600@www.badabeanbadabooze.com
SUMMARY:Off The Record: Jazz Night at the Quarry
DESCRIPTION:Introducing Off the Record—a new Thursday tradition at our Quarry Trails location.Join us weekly from 7–9 PM for intimate live jazz sessions\, curated cocktails\, and chill night-out energy. \n$25 bottles of select wines! \nonly on Thursdays during bar hours (4-10 PM)
URL:https://www.badabeanbadabooze.com/event/off-the-record-jazz-night-at-the-quarry/2026-06-11/
LOCATION:Quarry Trails\, 2157 Quarry Trails Drive\, Columbus\, OH\, 43228\, United States
ATTACH;FMTTYPE=image/png:https://www.badabeanbadabooze.com/wp-content/uploads/2025/04/TH_BADA_OffTheRecordWEBSITEGRAPHIC_042225_v4A.png
GEO:39.9984040063;-83.0838202362
X-APPLE-STRUCTURED-LOCATION;VALUE=URI;X-ADDRESS=Quarry Trails 2157 Quarry Trails Drive Columbus OH 43228 United States;X-APPLE-RADIUS=500;X-TITLE=2157 Quarry Trails Drive:geo:-83.0838202362,39.9984040063
END:VEVENT
BEGIN:VEVENT
DTSTART;TZID=America/New_York:20260615T190000
DTEND;TZID=America/New_York:20260615T210000
DTSTAMP:20260424T044302
CREATED:20250903T192832Z
LAST-MODIFIED:20250903T192832Z
UID:10001550-1781550000-1781557200@www.badabeanbadabooze.com
SUMMARY:Trivia Night at Quarry Trails
DESCRIPTION:Bring your crew and your brainpower to our new weekly trivia at Quarry Trails. Fast-paced rounds\, pop-culture to deep cuts\, and prizes for the top teams. It’s free to play\, team-friendly\, and perfect for a midweek hang. \nSettle in with lattes\, cocktails\, and snacks from the bar while you compete. Walk in\, grab a table\, and game on. \nFREE TO PLAY
URL:https://www.badabeanbadabooze.com/event/trivia-night-at-quarry-trails/2026-06-15/
LOCATION:Quarry Trails\, 2157 Quarry Trails Drive\, Columbus\, OH\, 43228\, United States
CATEGORIES:Trivia
ATTACH;FMTTYPE=image/jpeg:https://www.badabeanbadabooze.com/wp-content/uploads/2025/09/QT_TRIVIA-WEBSITE-GRAP-1.jpg
GEO:39.9984040063;-83.0838202362
X-APPLE-STRUCTURED-LOCATION;VALUE=URI;X-ADDRESS=Quarry Trails 2157 Quarry Trails Drive Columbus OH 43228 United States;X-APPLE-RADIUS=500;X-TITLE=2157 Quarry Trails Drive:geo:-83.0838202362,39.9984040063
END:VEVENT
BEGIN:VEVENT
DTSTART;TZID=America/New_York:20260616T180000
DTEND;TZID=America/New_York:20260616T200000
DTSTAMP:20260424T044302
CREATED:20250112T174545Z
LAST-MODIFIED:20251119T174358Z
UID:10000086-1781632800-1781640000@www.badabeanbadabooze.com
SUMMARY:Trivia Twoozeday
DESCRIPTION:Trivia Twoozeday! Show up early and take advantage of our great Happy Hour specials. Consider it as a lubricant for the brain. Trivia starts at 6pm until 8pm!
URL:https://www.badabeanbadabooze.com/event/trivia-twoozedays/2026-06-16/
LOCATION:Italian Village\, 231 E 1st Ave\, Columbus\, OH\, 43215\, United States
ATTACH;FMTTYPE=image/png:https://www.badabeanbadabooze.com/wp-content/uploads/2025/01/TH_BADA_TriviaWebsiteGraphic1080x1080_041525_v3A-1.png
END:VEVENT
BEGIN:VEVENT
DTSTART;TZID=America/New_York:20260618T190000
DTEND;TZID=America/New_York:20260618T210000
DTSTAMP:20260424T044302
CREATED:20250422T150043Z
LAST-MODIFIED:20260410T133057Z
UID:10001288-1781809200-1781816400@www.badabeanbadabooze.com
SUMMARY:Off The Record: Jazz Night at the Quarry
DESCRIPTION:Introducing Off the Record—a new Thursday tradition at our Quarry Trails location.Join us weekly from 7–9 PM for intimate live jazz sessions\, curated cocktails\, and chill night-out energy. \n$25 bottles of select wines! \nonly on Thursdays during bar hours (4-10 PM)
URL:https://www.badabeanbadabooze.com/event/off-the-record-jazz-night-at-the-quarry/2026-06-18/
LOCATION:Quarry Trails\, 2157 Quarry Trails Drive\, Columbus\, OH\, 43228\, United States
ATTACH;FMTTYPE=image/png:https://www.badabeanbadabooze.com/wp-content/uploads/2025/04/TH_BADA_OffTheRecordWEBSITEGRAPHIC_042225_v4A.png
GEO:39.9984040063;-83.0838202362
X-APPLE-STRUCTURED-LOCATION;VALUE=URI;X-ADDRESS=Quarry Trails 2157 Quarry Trails Drive Columbus OH 43228 United States;X-APPLE-RADIUS=500;X-TITLE=2157 Quarry Trails Drive:geo:-83.0838202362,39.9984040063
END:VEVENT
BEGIN:VEVENT
DTSTART;TZID=America/New_York:20260622T190000
DTEND;TZID=America/New_York:20260622T210000
DTSTAMP:20260424T044302
CREATED:20250903T192832Z
LAST-MODIFIED:20250903T192832Z
UID:10001551-1782154800-1782162000@www.badabeanbadabooze.com
SUMMARY:Trivia Night at Quarry Trails
DESCRIPTION:Bring your crew and your brainpower to our new weekly trivia at Quarry Trails. Fast-paced rounds\, pop-culture to deep cuts\, and prizes for the top teams. It’s free to play\, team-friendly\, and perfect for a midweek hang. \nSettle in with lattes\, cocktails\, and snacks from the bar while you compete. Walk in\, grab a table\, and game on. \nFREE TO PLAY
URL:https://www.badabeanbadabooze.com/event/trivia-night-at-quarry-trails/2026-06-22/
LOCATION:Quarry Trails\, 2157 Quarry Trails Drive\, Columbus\, OH\, 43228\, United States
CATEGORIES:Trivia
ATTACH;FMTTYPE=image/jpeg:https://www.badabeanbadabooze.com/wp-content/uploads/2025/09/QT_TRIVIA-WEBSITE-GRAP-1.jpg
GEO:39.9984040063;-83.0838202362
X-APPLE-STRUCTURED-LOCATION;VALUE=URI;X-ADDRESS=Quarry Trails 2157 Quarry Trails Drive Columbus OH 43228 United States;X-APPLE-RADIUS=500;X-TITLE=2157 Quarry Trails Drive:geo:-83.0838202362,39.9984040063
END:VEVENT
BEGIN:VEVENT
DTSTART;TZID=America/New_York:20260623T180000
DTEND;TZID=America/New_York:20260623T200000
DTSTAMP:20260424T044302
CREATED:20250112T174545Z
LAST-MODIFIED:20251119T174358Z
UID:10000087-1782237600-1782244800@www.badabeanbadabooze.com
SUMMARY:Trivia Twoozeday
DESCRIPTION:Trivia Twoozeday! Show up early and take advantage of our great Happy Hour specials. Consider it as a lubricant for the brain. Trivia starts at 6pm until 8pm!
URL:https://www.badabeanbadabooze.com/event/trivia-twoozedays/2026-06-23/
LOCATION:Italian Village\, 231 E 1st Ave\, Columbus\, OH\, 43215\, United States
ATTACH;FMTTYPE=image/png:https://www.badabeanbadabooze.com/wp-content/uploads/2025/01/TH_BADA_TriviaWebsiteGraphic1080x1080_041525_v3A-1.png
END:VEVENT
BEGIN:VEVENT
DTSTART;TZID=America/New_York:20260625T190000
DTEND;TZID=America/New_York:20260625T210000
DTSTAMP:20260424T044302
CREATED:20250422T150043Z
LAST-MODIFIED:20260410T133057Z
UID:10001289-1782414000-1782421200@www.badabeanbadabooze.com
SUMMARY:Off The Record: Jazz Night at the Quarry
DESCRIPTION:Introducing Off the Record—a new Thursday tradition at our Quarry Trails location.Join us weekly from 7–9 PM for intimate live jazz sessions\, curated cocktails\, and chill night-out energy. \n$25 bottles of select wines! \nonly on Thursdays during bar hours (4-10 PM)
URL:https://www.badabeanbadabooze.com/event/off-the-record-jazz-night-at-the-quarry/2026-06-25/
LOCATION:Quarry Trails\, 2157 Quarry Trails Drive\, Columbus\, OH\, 43228\, United States
ATTACH;FMTTYPE=image/png:https://www.badabeanbadabooze.com/wp-content/uploads/2025/04/TH_BADA_OffTheRecordWEBSITEGRAPHIC_042225_v4A.png
GEO:39.9984040063;-83.0838202362
X-APPLE-STRUCTURED-LOCATION;VALUE=URI;X-ADDRESS=Quarry Trails 2157 Quarry Trails Drive Columbus OH 43228 United States;X-APPLE-RADIUS=500;X-TITLE=2157 Quarry Trails Drive:geo:-83.0838202362,39.9984040063
END:VEVENT
BEGIN:VEVENT
DTSTART;TZID=America/New_York:20260629T190000
DTEND;TZID=America/New_York:20260629T210000
DTSTAMP:20260424T044302
CREATED:20250903T192832Z
LAST-MODIFIED:20250903T192832Z
UID:10001552-1782759600-1782766800@www.badabeanbadabooze.com
SUMMARY:Trivia Night at Quarry Trails
DESCRIPTION:Bring your crew and your brainpower to our new weekly trivia at Quarry Trails. Fast-paced rounds\, pop-culture to deep cuts\, and prizes for the top teams. It’s free to play\, team-friendly\, and perfect for a midweek hang. \nSettle in with lattes\, cocktails\, and snacks from the bar while you compete. Walk in\, grab a table\, and game on. \nFREE TO PLAY
URL:https://www.badabeanbadabooze.com/event/trivia-night-at-quarry-trails/2026-06-29/
LOCATION:Quarry Trails\, 2157 Quarry Trails Drive\, Columbus\, OH\, 43228\, United States
CATEGORIES:Trivia
ATTACH;FMTTYPE=image/jpeg:https://www.badabeanbadabooze.com/wp-content/uploads/2025/09/QT_TRIVIA-WEBSITE-GRAP-1.jpg
GEO:39.9984040063;-83.0838202362
X-APPLE-STRUCTURED-LOCATION;VALUE=URI;X-ADDRESS=Quarry Trails 2157 Quarry Trails Drive Columbus OH 43228 United States;X-APPLE-RADIUS=500;X-TITLE=2157 Quarry Trails Drive:geo:-83.0838202362,39.9984040063
END:VEVENT
BEGIN:VEVENT
DTSTART;TZID=America/New_York:20260630T180000
DTEND;TZID=America/New_York:20260630T200000
DTSTAMP:20260424T044302
CREATED:20250112T174545Z
LAST-MODIFIED:20251119T174358Z
UID:10000088-1782842400-1782849600@www.badabeanbadabooze.com
SUMMARY:Trivia Twoozeday
DESCRIPTION:Trivia Twoozeday! Show up early and take advantage of our great Happy Hour specials. Consider it as a lubricant for the brain. Trivia starts at 6pm until 8pm!
URL:https://www.badabeanbadabooze.com/event/trivia-twoozedays/2026-06-30/
LOCATION:Italian Village\, 231 E 1st Ave\, Columbus\, OH\, 43215\, United States
ATTACH;FMTTYPE=image/png:https://www.badabeanbadabooze.com/wp-content/uploads/2025/01/TH_BADA_TriviaWebsiteGraphic1080x1080_041525_v3A-1.png
END:VEVENT
END:VCALENDAR