BEGIN:VCALENDAR
VERSION:2.0
PRODID:-//Bada Bean Bada Booze - ECPv6.15.20//NONSGML v1.0//EN
CALSCALE:GREGORIAN
METHOD:PUBLISH
X-WR-CALNAME:Bada Bean Bada Booze
X-ORIGINAL-URL:https://www.badabeanbadabooze.com
X-WR-CALDESC:Events for Bada Bean Bada Booze
REFRESH-INTERVAL;VALUE=DURATION:PT1H
X-Robots-Tag:noindex
X-PUBLISHED-TTL:PT1H
BEGIN:VTIMEZONE
TZID:America/New_York
BEGIN:DAYLIGHT
TZOFFSETFROM:-0500
TZOFFSETTO:-0400
TZNAME:EDT
DTSTART:20230312T070000
END:DAYLIGHT
BEGIN:STANDARD
TZOFFSETFROM:-0400
TZOFFSETTO:-0500
TZNAME:EST
DTSTART:20231105T060000
END:STANDARD
BEGIN:DAYLIGHT
TZOFFSETFROM:-0500
TZOFFSETTO:-0400
TZNAME:EDT
DTSTART:20240310T070000
END:DAYLIGHT
BEGIN:STANDARD
TZOFFSETFROM:-0400
TZOFFSETTO:-0500
TZNAME:EST
DTSTART:20241103T060000
END:STANDARD
BEGIN:DAYLIGHT
TZOFFSETFROM:-0500
TZOFFSETTO:-0400
TZNAME:EDT
DTSTART:20250309T070000
END:DAYLIGHT
BEGIN:STANDARD
TZOFFSETFROM:-0400
TZOFFSETTO:-0500
TZNAME:EST
DTSTART:20251102T060000
END:STANDARD
BEGIN:DAYLIGHT
TZOFFSETFROM:-0500
TZOFFSETTO:-0400
TZNAME:EDT
DTSTART:20260308T070000
END:DAYLIGHT
BEGIN:STANDARD
TZOFFSETFROM:-0400
TZOFFSETTO:-0500
TZNAME:EST
DTSTART:20261101T060000
END:STANDARD
END:VTIMEZONE
BEGIN:VEVENT
DTSTART;TZID=America/New_York:20250317T193000
DTEND;TZID=America/New_York:20250317T230000
DTSTAMP:20260425T113920
CREATED:20250224T153912Z
LAST-MODIFIED:20250228T210037Z
UID:10000280-1742239800-1742252400@www.badabeanbadabooze.com
SUMMARY:The Bachelor Bingo Night
DESCRIPTION:We’re thrilled to bring back Bachelor/Bachelorette Bingo\, your favorite way to enjoy Monday nights. Grab your friends and head over to Bada in Italian Village for a night of fun\, games\, and everything you love about the Bachelor franchise.\n\nDoors open at 7:30 PM for bingo materials\, with the show kicking off at 8 PM.\n\nWeekly Prizes: Three amazing prizes every week!\n\nDrink Specials: $6 wine pours\, $20 wine bottles\, and a rotating specialty cocktail. Follow us on Instagram for the latest updates.\n\nDon’t miss the oohs\, ahhs\, and laughs! Bring your crew for a night of fun that’s as dramatic as the show itself.
URL:https://www.badabeanbadabooze.com/event/the-bachelor-bingo-night/2025-03-17/
LOCATION:Italian Village\, 231 E 1st Ave\, Columbus\, OH\, 43215\, United States
ATTACH;FMTTYPE=image/png:https://www.badabeanbadabooze.com/wp-content/uploads/2025/02/TH_Bada_BachelorBingo_WebEvent_022825_v1A-1.png
END:VEVENT
BEGIN:VEVENT
DTSTART;VALUE=DATE:20250315
DTEND;VALUE=DATE:20250317
DTSTAMP:20260425T113920
CREATED:20250306T182116Z
LAST-MODIFIED:20250306T182116Z
UID:10000884-1741996800-1742169599@www.badabeanbadabooze.com
SUMMARY:Saint Patrick’s Day Weekend at The Little Grand Market!
DESCRIPTION:Celebrate St. Patrick’s Day with a weekend full of Irish music\, dance\, and festive drinks at The Little Grand Market! Enjoy live bagpipe performances on March 15 at 5:30 PM and March 16 at 12:00 PM\, followed by a special Irish dance performance at 1:00 PM on March 16. Sip on $6 Green Garage Beers\, and if luck is on our side\, Guinness on draft! Families are welcome—kids can enjoy free chocolate gold coins while soaking in the festive atmosphere. Join us for a shamrockin’ good time!
URL:https://www.badabeanbadabooze.com/event/saint-patricks-day-weekend-at-the-little-grand-market/
LOCATION:Grandview Crossing\, 710 Grandview Xing Wy Unit 111\, Columbus\, OH\, 43215\, United States
ATTACH;FMTTYPE=image/png:https://www.badabeanbadabooze.com/wp-content/uploads/2025/03/TH_LG_StPatricksDayWEBSITE-GRAPHIC-BADA_022825_v1A.png
END:VEVENT
BEGIN:VEVENT
DTSTART;TZID=America/New_York:20250311T180000
DTEND;TZID=America/New_York:20250311T200000
DTSTAMP:20260425T113920
CREATED:20250112T174545Z
LAST-MODIFIED:20251119T174358Z
UID:10000020-1741716000-1741723200@www.badabeanbadabooze.com
SUMMARY:Trivia Twoozeday
DESCRIPTION:Trivia Twoozeday! Show up early and take advantage of our great Happy Hour specials. Consider it as a lubricant for the brain. Trivia starts at 6pm until 8pm!
URL:https://www.badabeanbadabooze.com/event/trivia-twoozedays/2025-03-11/
LOCATION:Italian Village\, 231 E 1st Ave\, Columbus\, OH\, 43215\, United States
ATTACH;FMTTYPE=image/png:https://www.badabeanbadabooze.com/wp-content/uploads/2025/01/TH_BADA_TriviaWebsiteGraphic1080x1080_041525_v3A-1.png
END:VEVENT
BEGIN:VEVENT
DTSTART;TZID=America/New_York:20250310T193000
DTEND;TZID=America/New_York:20250310T230000
DTSTAMP:20260425T113920
CREATED:20250224T153912Z
LAST-MODIFIED:20250228T210037Z
UID:10000279-1741635000-1741647600@www.badabeanbadabooze.com
SUMMARY:The Bachelor Bingo Night
DESCRIPTION:We’re thrilled to bring back Bachelor/Bachelorette Bingo\, your favorite way to enjoy Monday nights. Grab your friends and head over to Bada in Italian Village for a night of fun\, games\, and everything you love about the Bachelor franchise.\n\nDoors open at 7:30 PM for bingo materials\, with the show kicking off at 8 PM.\n\nWeekly Prizes: Three amazing prizes every week!\n\nDrink Specials: $6 wine pours\, $20 wine bottles\, and a rotating specialty cocktail. Follow us on Instagram for the latest updates.\n\nDon’t miss the oohs\, ahhs\, and laughs! Bring your crew for a night of fun that’s as dramatic as the show itself.
URL:https://www.badabeanbadabooze.com/event/the-bachelor-bingo-night/2025-03-10/
LOCATION:Italian Village\, 231 E 1st Ave\, Columbus\, OH\, 43215\, United States
ATTACH;FMTTYPE=image/png:https://www.badabeanbadabooze.com/wp-content/uploads/2025/02/TH_Bada_BachelorBingo_WebEvent_022825_v1A-1.png
END:VEVENT
BEGIN:VEVENT
DTSTART;TZID=America/New_York:20250306T180000
DTEND;TZID=America/New_York:20250306T220000
DTSTAMP:20260425T113920
CREATED:20250228T193820Z
LAST-MODIFIED:20250409T172607Z
UID:10000863-1741284000-1741298400@www.badabeanbadabooze.com
SUMMARY:Celestial Pop-Up Bar
DESCRIPTION:Thursdays just got a cosmic upgrade. Join our friends at The Little Grand as they transform their patio bar into the Celestial Pop-Up Bar\, a rotating cocktail experience inspired by the stars. \nWhat to Expect: \n\nGalactic-themed cocktails crafted exclusively for the night\nLo-fi beats & a laid-back atmosphere—perfect for unwinding\nA little mystery\, a little magic\, and a lot of good drinks\n\nWe’ll be stopping by—will you? 🍸✨ \nWhere: The Little Grand (Seven Sister Patio Bar)\nNo cover—just great drinks & good vibes \nDo you know the mystery of the Seven Sisters? \nDon’t miss it—this is a pop-up for a reason. See you at The Little Grand! 
URL:https://www.badabeanbadabooze.com/event/celestial-pop-up-bar/
LOCATION:Grandview Crossing\, 710 Grandview Xing Wy Unit 111\, Columbus\, OH\, 43215\, United States
ATTACH;FMTTYPE=image/png:https://www.badabeanbadabooze.com/wp-content/uploads/2025/02/TH_LG_SevenSistersDJEventWEBSITE-GRAPHIC-BADA_022825_v1A.png
END:VEVENT
BEGIN:VEVENT
DTSTART;TZID=America/New_York:20250304T180000
DTEND;TZID=America/New_York:20250304T200000
DTSTAMP:20260425T113920
CREATED:20250112T174545Z
LAST-MODIFIED:20251119T174358Z
UID:10000019-1741111200-1741118400@www.badabeanbadabooze.com
SUMMARY:Trivia Twoozeday
DESCRIPTION:Trivia Twoozeday! Show up early and take advantage of our great Happy Hour specials. Consider it as a lubricant for the brain. Trivia starts at 6pm until 8pm!
URL:https://www.badabeanbadabooze.com/event/trivia-twoozedays/2025-03-04/
LOCATION:Italian Village\, 231 E 1st Ave\, Columbus\, OH\, 43215\, United States
ATTACH;FMTTYPE=image/png:https://www.badabeanbadabooze.com/wp-content/uploads/2025/01/TH_BADA_TriviaWebsiteGraphic1080x1080_041525_v3A-1.png
END:VEVENT
BEGIN:VEVENT
DTSTART;TZID=America/New_York:20250303T193000
DTEND;TZID=America/New_York:20250303T230000
DTSTAMP:20260425T113920
CREATED:20250224T153912Z
LAST-MODIFIED:20250228T210037Z
UID:10000278-1741030200-1741042800@www.badabeanbadabooze.com
SUMMARY:The Bachelor Bingo Night
DESCRIPTION:We’re thrilled to bring back Bachelor/Bachelorette Bingo\, your favorite way to enjoy Monday nights. Grab your friends and head over to Bada in Italian Village for a night of fun\, games\, and everything you love about the Bachelor franchise.\n\nDoors open at 7:30 PM for bingo materials\, with the show kicking off at 8 PM.\n\nWeekly Prizes: Three amazing prizes every week!\n\nDrink Specials: $6 wine pours\, $20 wine bottles\, and a rotating specialty cocktail. Follow us on Instagram for the latest updates.\n\nDon’t miss the oohs\, ahhs\, and laughs! Bring your crew for a night of fun that’s as dramatic as the show itself.
URL:https://www.badabeanbadabooze.com/event/the-bachelor-bingo-night/2025-03-03/
LOCATION:Italian Village\, 231 E 1st Ave\, Columbus\, OH\, 43215\, United States
ATTACH;FMTTYPE=image/png:https://www.badabeanbadabooze.com/wp-content/uploads/2025/02/TH_Bada_BachelorBingo_WebEvent_022825_v1A-1.png
END:VEVENT
BEGIN:VEVENT
DTSTART;TZID=America/New_York:20250225T180000
DTEND;TZID=America/New_York:20250225T200000
DTSTAMP:20260425T113920
CREATED:20250112T174545Z
LAST-MODIFIED:20251119T174358Z
UID:10000018-1740506400-1740513600@www.badabeanbadabooze.com
SUMMARY:Trivia Twoozeday
DESCRIPTION:Trivia Twoozeday! Show up early and take advantage of our great Happy Hour specials. Consider it as a lubricant for the brain. Trivia starts at 6pm until 8pm!
URL:https://www.badabeanbadabooze.com/event/trivia-twoozedays/2025-02-25/
LOCATION:Italian Village\, 231 E 1st Ave\, Columbus\, OH\, 43215\, United States
ATTACH;FMTTYPE=image/png:https://www.badabeanbadabooze.com/wp-content/uploads/2025/01/TH_BADA_TriviaWebsiteGraphic1080x1080_041525_v3A-1.png
END:VEVENT
BEGIN:VEVENT
DTSTART;TZID=America/New_York:20250224T193000
DTEND;TZID=America/New_York:20250224T230000
DTSTAMP:20260425T113920
CREATED:20250224T153912Z
LAST-MODIFIED:20250228T210037Z
UID:10000277-1740425400-1740438000@www.badabeanbadabooze.com
SUMMARY:The Bachelor Bingo Night
DESCRIPTION:We’re thrilled to bring back Bachelor/Bachelorette Bingo\, your favorite way to enjoy Monday nights. Grab your friends and head over to Bada in Italian Village for a night of fun\, games\, and everything you love about the Bachelor franchise.\n\nDoors open at 7:30 PM for bingo materials\, with the show kicking off at 8 PM.\n\nWeekly Prizes: Three amazing prizes every week!\n\nDrink Specials: $6 wine pours\, $20 wine bottles\, and a rotating specialty cocktail. Follow us on Instagram for the latest updates.\n\nDon’t miss the oohs\, ahhs\, and laughs! Bring your crew for a night of fun that’s as dramatic as the show itself.
URL:https://www.badabeanbadabooze.com/event/the-bachelor-bingo-night/2025-02-24/
LOCATION:Italian Village\, 231 E 1st Ave\, Columbus\, OH\, 43215\, United States
ATTACH;FMTTYPE=image/png:https://www.badabeanbadabooze.com/wp-content/uploads/2025/02/TH_Bada_BachelorBingo_WebEvent_022825_v1A-1.png
END:VEVENT
BEGIN:VEVENT
DTSTART;TZID=America/New_York:20250220T190000
DTEND;TZID=America/New_York:20250220T210000
DTSTAMP:20260425T113920
CREATED:20250112T174846Z
LAST-MODIFIED:20250313T204648Z
UID:10000541-1740078000-1740085200@www.badabeanbadabooze.com
SUMMARY:Drunk Spelling Bee
DESCRIPTION:Think you can spell? Come join us every third thursday of the month at 7PM!
URL:https://www.badabeanbadabooze.com/event/drunk-spelling-bee/2025-02-20/
LOCATION:Italian Village\, 231 E 1st Ave\, Columbus\, OH\, 43215\, United States
ATTACH;FMTTYPE=image/png:https://www.badabeanbadabooze.com/wp-content/uploads/2025/01/TH_Bada_DrunkSpellingBee_EventThumbnail.png
END:VEVENT
BEGIN:VEVENT
DTSTART;TZID=America/New_York:20250218T180000
DTEND;TZID=America/New_York:20250218T200000
DTSTAMP:20260425T113920
CREATED:20250112T174545Z
LAST-MODIFIED:20251119T174358Z
UID:10000017-1739901600-1739908800@www.badabeanbadabooze.com
SUMMARY:Trivia Twoozeday
DESCRIPTION:Trivia Twoozeday! Show up early and take advantage of our great Happy Hour specials. Consider it as a lubricant for the brain. Trivia starts at 6pm until 8pm!
URL:https://www.badabeanbadabooze.com/event/trivia-twoozedays/2025-02-18/
LOCATION:Italian Village\, 231 E 1st Ave\, Columbus\, OH\, 43215\, United States
ATTACH;FMTTYPE=image/png:https://www.badabeanbadabooze.com/wp-content/uploads/2025/01/TH_BADA_TriviaWebsiteGraphic1080x1080_041525_v3A-1.png
END:VEVENT
BEGIN:VEVENT
DTSTART;TZID=America/New_York:20250211T180000
DTEND;TZID=America/New_York:20250211T200000
DTSTAMP:20260425T113920
CREATED:20250112T174545Z
LAST-MODIFIED:20251119T174358Z
UID:10000016-1739296800-1739304000@www.badabeanbadabooze.com
SUMMARY:Trivia Twoozeday
DESCRIPTION:Trivia Twoozeday! Show up early and take advantage of our great Happy Hour specials. Consider it as a lubricant for the brain. Trivia starts at 6pm until 8pm!
URL:https://www.badabeanbadabooze.com/event/trivia-twoozedays/2025-02-11/
LOCATION:Italian Village\, 231 E 1st Ave\, Columbus\, OH\, 43215\, United States
ATTACH;FMTTYPE=image/png:https://www.badabeanbadabooze.com/wp-content/uploads/2025/01/TH_BADA_TriviaWebsiteGraphic1080x1080_041525_v3A-1.png
END:VEVENT
BEGIN:VEVENT
DTSTART;TZID=America/New_York:20250204T180000
DTEND;TZID=America/New_York:20250204T200000
DTSTAMP:20260425T113920
CREATED:20250112T174545Z
LAST-MODIFIED:20251119T174358Z
UID:10000015-1738692000-1738699200@www.badabeanbadabooze.com
SUMMARY:Trivia Twoozeday
DESCRIPTION:Trivia Twoozeday! Show up early and take advantage of our great Happy Hour specials. Consider it as a lubricant for the brain. Trivia starts at 6pm until 8pm!
URL:https://www.badabeanbadabooze.com/event/trivia-twoozedays/2025-02-04/
LOCATION:Italian Village\, 231 E 1st Ave\, Columbus\, OH\, 43215\, United States
ATTACH;FMTTYPE=image/png:https://www.badabeanbadabooze.com/wp-content/uploads/2025/01/TH_BADA_TriviaWebsiteGraphic1080x1080_041525_v3A-1.png
END:VEVENT
BEGIN:VEVENT
DTSTART;TZID=America/New_York:20250130T180000
DTEND;TZID=America/New_York:20250130T210000
DTSTAMP:20260425T113920
CREATED:20250116T185224Z
LAST-MODIFIED:20250116T190106Z
UID:10000009-1738260000-1738270800@www.badabeanbadabooze.com
SUMMARY:Speed Dating Social Event
DESCRIPTION:
URL:https://www.badabeanbadabooze.com/event/speed-dating-social-event/
LOCATION:Harrison West\, 527 W 5th Ave\, Columbus\, OH\, 43201\, United States
ATTACH;FMTTYPE=image/png:https://www.badabeanbadabooze.com/wp-content/uploads/2025/01/speed-dating.png
END:VEVENT
BEGIN:VEVENT
DTSTART;TZID=America/New_York:20250128T180000
DTEND;TZID=America/New_York:20250128T200000
DTSTAMP:20260425T113920
CREATED:20250112T174545Z
LAST-MODIFIED:20251119T174358Z
UID:10000014-1738087200-1738094400@www.badabeanbadabooze.com
SUMMARY:Trivia Twoozeday
DESCRIPTION:Trivia Twoozeday! Show up early and take advantage of our great Happy Hour specials. Consider it as a lubricant for the brain. Trivia starts at 6pm until 8pm!
URL:https://www.badabeanbadabooze.com/event/trivia-twoozedays/2025-01-28/
LOCATION:Italian Village\, 231 E 1st Ave\, Columbus\, OH\, 43215\, United States
ATTACH;FMTTYPE=image/png:https://www.badabeanbadabooze.com/wp-content/uploads/2025/01/TH_BADA_TriviaWebsiteGraphic1080x1080_041525_v3A-1.png
END:VEVENT
BEGIN:VEVENT
DTSTART;TZID=America/New_York:20250121T180000
DTEND;TZID=America/New_York:20250121T200000
DTSTAMP:20260425T113920
CREATED:20250112T174545Z
LAST-MODIFIED:20251119T174358Z
UID:10000013-1737482400-1737489600@www.badabeanbadabooze.com
SUMMARY:Trivia Twoozeday
DESCRIPTION:Trivia Twoozeday! Show up early and take advantage of our great Happy Hour specials. Consider it as a lubricant for the brain. Trivia starts at 6pm until 8pm!
URL:https://www.badabeanbadabooze.com/event/trivia-twoozedays/2025-01-21/
LOCATION:Italian Village\, 231 E 1st Ave\, Columbus\, OH\, 43215\, United States
ATTACH;FMTTYPE=image/png:https://www.badabeanbadabooze.com/wp-content/uploads/2025/01/TH_BADA_TriviaWebsiteGraphic1080x1080_041525_v3A-1.png
END:VEVENT
BEGIN:VEVENT
DTSTART;TZID=America/New_York:20250116T190000
DTEND;TZID=America/New_York:20250116T210000
DTSTAMP:20260425T113920
CREATED:20250112T174846Z
LAST-MODIFIED:20250313T204648Z
UID:10000001-1737054000-1737061200@www.badabeanbadabooze.com
SUMMARY:Drunk Spelling Bee
DESCRIPTION:Think you can spell? Come join us every third thursday of the month at 7PM!
URL:https://www.badabeanbadabooze.com/event/drunk-spelling-bee/2025-01-16/
LOCATION:Italian Village\, 231 E 1st Ave\, Columbus\, OH\, 43215\, United States
ATTACH;FMTTYPE=image/png:https://www.badabeanbadabooze.com/wp-content/uploads/2025/01/TH_Bada_DrunkSpellingBee_EventThumbnail.png
END:VEVENT
BEGIN:VEVENT
DTSTART;TZID=America/New_York:20250114T180000
DTEND;TZID=America/New_York:20250114T200000
DTSTAMP:20260425T113920
CREATED:20250112T174545Z
LAST-MODIFIED:20251119T174358Z
UID:10000012-1736877600-1736884800@www.badabeanbadabooze.com
SUMMARY:Trivia Twoozeday
DESCRIPTION:Trivia Twoozeday! Show up early and take advantage of our great Happy Hour specials. Consider it as a lubricant for the brain. Trivia starts at 6pm until 8pm!
URL:https://www.badabeanbadabooze.com/event/trivia-twoozedays/2025-01-14/
LOCATION:Italian Village\, 231 E 1st Ave\, Columbus\, OH\, 43215\, United States
ATTACH;FMTTYPE=image/png:https://www.badabeanbadabooze.com/wp-content/uploads/2025/01/TH_BADA_TriviaWebsiteGraphic1080x1080_041525_v3A-1.png
END:VEVENT
BEGIN:VEVENT
DTSTART;TZID=America/New_York:20250107T180000
DTEND;TZID=America/New_York:20250107T200000
DTSTAMP:20260425T113920
CREATED:20250112T174545Z
LAST-MODIFIED:20251119T174358Z
UID:10000002-1736272800-1736280000@www.badabeanbadabooze.com
SUMMARY:Trivia Twoozeday
DESCRIPTION:Trivia Twoozeday! Show up early and take advantage of our great Happy Hour specials. Consider it as a lubricant for the brain. Trivia starts at 6pm until 8pm!
URL:https://www.badabeanbadabooze.com/event/trivia-twoozedays/2025-01-07/
LOCATION:Italian Village\, 231 E 1st Ave\, Columbus\, OH\, 43215\, United States
ATTACH;FMTTYPE=image/png:https://www.badabeanbadabooze.com/wp-content/uploads/2025/01/TH_BADA_TriviaWebsiteGraphic1080x1080_041525_v3A-1.png
END:VEVENT
BEGIN:VEVENT
DTSTART;VALUE=DATE:20250102
DTEND;VALUE=DATE:20250103
DTSTAMP:20260425T113920
CREATED:20250114T030056Z
LAST-MODIFIED:20250131T144103Z
UID:10000005-1735776000-1735862399@www.badabeanbadabooze.com
SUMMARY:CLOSED
DESCRIPTION:
URL:https://www.badabeanbadabooze.com/event/closed-2/
LOCATION:OH
END:VEVENT
BEGIN:VEVENT
DTSTART;VALUE=DATE:20241231
DTEND;VALUE=DATE:20250101
DTSTAMP:20260425T113920
CREATED:20250114T030439Z
LAST-MODIFIED:20250131T144115Z
UID:10000008-1735603200-1735689599@www.badabeanbadabooze.com
SUMMARY:Limited Hours
DESCRIPTION:
URL:https://www.badabeanbadabooze.com/event/limited-hours-2/
LOCATION:OH
END:VEVENT
BEGIN:VEVENT
DTSTART;VALUE=DATE:20241230
DTEND;VALUE=DATE:20241231
DTSTAMP:20260425T113920
CREATED:20250114T030410Z
LAST-MODIFIED:20250131T144122Z
UID:10000007-1735516800-1735603199@www.badabeanbadabooze.com
SUMMARY:Limited Hours
DESCRIPTION:
URL:https://www.badabeanbadabooze.com/event/limited-hours/
LOCATION:OH
END:VEVENT
BEGIN:VEVENT
DTSTART;VALUE=DATE:20241229
DTEND;VALUE=DATE:20241230
DTSTAMP:20260425T113920
CREATED:20250114T030147Z
LAST-MODIFIED:20250131T144111Z
UID:10000006-1735430400-1735516799@www.badabeanbadabooze.com
SUMMARY:CLOSED
DESCRIPTION:
URL:https://www.badabeanbadabooze.com/event/closed-3/
LOCATION:OH
END:VEVENT
END:VCALENDAR