BEGIN:VCALENDAR
VERSION:2.0
PRODID:-//Bada Bean Bada Booze - ECPv6.15.20//NONSGML v1.0//EN
CALSCALE:GREGORIAN
METHOD:PUBLISH
X-WR-CALNAME:Bada Bean Bada Booze
X-ORIGINAL-URL:https://www.badabeanbadabooze.com
X-WR-CALDESC:Events for Bada Bean Bada Booze
REFRESH-INTERVAL;VALUE=DURATION:PT1H
X-Robots-Tag:noindex
X-PUBLISHED-TTL:PT1H
BEGIN:VTIMEZONE
TZID:America/New_York
BEGIN:DAYLIGHT
TZOFFSETFROM:-0500
TZOFFSETTO:-0400
TZNAME:EDT
DTSTART:20250309T070000
END:DAYLIGHT
BEGIN:STANDARD
TZOFFSETFROM:-0400
TZOFFSETTO:-0500
TZNAME:EST
DTSTART:20251102T060000
END:STANDARD
BEGIN:DAYLIGHT
TZOFFSETFROM:-0500
TZOFFSETTO:-0400
TZNAME:EDT
DTSTART:20260308T070000
END:DAYLIGHT
BEGIN:STANDARD
TZOFFSETFROM:-0400
TZOFFSETTO:-0500
TZNAME:EST
DTSTART:20261101T060000
END:STANDARD
BEGIN:DAYLIGHT
TZOFFSETFROM:-0500
TZOFFSETTO:-0400
TZNAME:EDT
DTSTART:20270314T070000
END:DAYLIGHT
BEGIN:STANDARD
TZOFFSETFROM:-0400
TZOFFSETTO:-0500
TZNAME:EST
DTSTART:20271107T060000
END:STANDARD
END:VTIMEZONE
BEGIN:VEVENT
DTSTART;TZID=America/New_York:20260401T160000
DTEND;TZID=America/New_York:20260401T220000
DTSTAMP:20260424T061639
CREATED:20260105T184051Z
LAST-MODIFIED:20260302T154035Z
UID:10002056-1775059200-1775080800@www.badabeanbadabooze.com
SUMMARY:Cosmos & Crafts
DESCRIPTION:Bring out your craft supplies\, creativity\, and inner Carrie Bradshaw! Join us for Crafts & Cosmos – you bring the craft; we’ll bring the (happy-hour priced $9) cosmos.
URL:https://www.badabeanbadabooze.com/event/cosmos-crafts/2026-04-01/
LOCATION:Quarry Trails\, 2157 Quarry Trails Drive\, Columbus\, OH\, 43228\, United States
ATTACH;FMTTYPE=image/png:https://www.badabeanbadabooze.com/wp-content/uploads/2025/01/TH_BADA_CraftsCosmosWEBSITE_012125_v1A.png
GEO:39.9984040063;-83.0838202362
X-APPLE-STRUCTURED-LOCATION;VALUE=URI;X-ADDRESS=Quarry Trails 2157 Quarry Trails Drive Columbus OH 43228 United States;X-APPLE-RADIUS=500;X-TITLE=2157 Quarry Trails Drive:geo:-83.0838202362,39.9984040063
END:VEVENT
BEGIN:VEVENT
DTSTART;TZID=America/New_York:20260401T160000
DTEND;TZID=America/New_York:20260401T220000
DTSTAMP:20260424T061639
CREATED:20260105T184236Z
LAST-MODIFIED:20260302T154003Z
UID:10002046-1775059200-1775080800@www.badabeanbadabooze.com
SUMMARY:Wine Down Wednesdays
DESCRIPTION:Wine Down Wednesdays: Relax with R&B Music & Happy Hour Wine Pours all night
URL:https://www.badabeanbadabooze.com/event/wine-down-wednesdays/2026-04-01/
LOCATION:Italian Village\, 231 E 1st Ave\, Columbus\, OH\, 43215\, United States
ATTACH;FMTTYPE=image/png:https://www.badabeanbadabooze.com/wp-content/uploads/2025/01/TH_BADA_WineDownWednesdaysWEBSITE_012125_v1A.png
END:VEVENT
BEGIN:VEVENT
DTSTART;TZID=America/New_York:20260402T190000
DTEND;TZID=America/New_York:20260402T210000
DTSTAMP:20260424T061639
CREATED:20250422T150043Z
LAST-MODIFIED:20260410T133057Z
UID:10001277-1775156400-1775163600@www.badabeanbadabooze.com
SUMMARY:Off The Record: Jazz Night at the Quarry
DESCRIPTION:Introducing Off the Record—a new Thursday tradition at our Quarry Trails location.Join us weekly from 7–9 PM for intimate live jazz sessions\, curated cocktails\, and chill night-out energy. \n$25 bottles of select wines! \nonly on Thursdays during bar hours (4-10 PM)
URL:https://www.badabeanbadabooze.com/event/off-the-record-jazz-night-at-the-quarry/2026-04-02/
LOCATION:Quarry Trails\, 2157 Quarry Trails Drive\, Columbus\, OH\, 43228\, United States
ATTACH;FMTTYPE=image/png:https://www.badabeanbadabooze.com/wp-content/uploads/2025/04/TH_BADA_OffTheRecordWEBSITEGRAPHIC_042225_v4A.png
GEO:39.9984040063;-83.0838202362
X-APPLE-STRUCTURED-LOCATION;VALUE=URI;X-ADDRESS=Quarry Trails 2157 Quarry Trails Drive Columbus OH 43228 United States;X-APPLE-RADIUS=500;X-TITLE=2157 Quarry Trails Drive:geo:-83.0838202362,39.9984040063
END:VEVENT
BEGIN:VEVENT
DTSTART;TZID=America/New_York:20260403T160000
DTEND;TZID=America/New_York:20260403T220000
DTSTAMP:20260424T061639
CREATED:20260105T183901Z
LAST-MODIFIED:20260302T153931Z
UID:10002036-1775232000-1775253600@www.badabeanbadabooze.com
SUMMARY:Classic Movies and Cocktails
DESCRIPTION:Just the Classics”: Classic movies and $9 classic cocktails all night long
URL:https://www.badabeanbadabooze.com/event/classic-movies-and-cocktails/2026-04-03/
LOCATION:Quarry Trails\, 2157 Quarry Trails Drive\, Columbus\, OH\, 43228\, United States
ATTACH;FMTTYPE=image/png:https://www.badabeanbadabooze.com/wp-content/uploads/2025/01/TH_BADA_JustTheClassicsWEBSITE_012125_v1A.png
GEO:39.9984040063;-83.0838202362
X-APPLE-STRUCTURED-LOCATION;VALUE=URI;X-ADDRESS=Quarry Trails 2157 Quarry Trails Drive Columbus OH 43228 United States;X-APPLE-RADIUS=500;X-TITLE=2157 Quarry Trails Drive:geo:-83.0838202362,39.9984040063
END:VEVENT
BEGIN:VEVENT
DTSTART;TZID=America/New_York:20260403T160000
DTEND;TZID=America/New_York:20260403T220000
DTSTAMP:20260424T061639
CREATED:20260105T185839Z
LAST-MODIFIED:20260302T153912Z
UID:10002026-1775232000-1775253600@www.badabeanbadabooze.com
SUMMARY:Girl Dinner
DESCRIPTION:$9 Happy Hour Martinis All Night\, Cheers to the weekend with Girl Dinner
URL:https://www.badabeanbadabooze.com/event/girl-dinner/2026-04-03/
LOCATION:Italian Village\, 231 E 1st Ave\, Columbus\, OH\, 43215\, United States
ATTACH;FMTTYPE=image/png:https://www.badabeanbadabooze.com/wp-content/uploads/2025/01/TH_BADA_GirlDinnerWEBSITE_012125_v1A.png
END:VEVENT
BEGIN:VEVENT
DTSTART;VALUE=DATE:20260406
DTEND;VALUE=DATE:20260407
DTSTAMP:20260424T061639
CREATED:20260401T195513Z
LAST-MODIFIED:20260401T195513Z
UID:10002066-1775433600-1775519999@www.badabeanbadabooze.com
SUMMARY:CLOSED
DESCRIPTION:
URL:https://www.badabeanbadabooze.com/event/closed-4/
LOCATION:OH
END:VEVENT
BEGIN:VEVENT
DTSTART;TZID=America/New_York:20260407T180000
DTEND;TZID=America/New_York:20260407T200000
DTSTAMP:20260424T061639
CREATED:20250112T174545Z
LAST-MODIFIED:20251119T174358Z
UID:10000076-1775584800-1775592000@www.badabeanbadabooze.com
SUMMARY:Trivia Twoozeday
DESCRIPTION:Trivia Twoozeday! Show up early and take advantage of our great Happy Hour specials. Consider it as a lubricant for the brain. Trivia starts at 6pm until 8pm!
URL:https://www.badabeanbadabooze.com/event/trivia-twoozedays/2026-04-07/
LOCATION:Italian Village\, 231 E 1st Ave\, Columbus\, OH\, 43215\, United States
ATTACH;FMTTYPE=image/png:https://www.badabeanbadabooze.com/wp-content/uploads/2025/01/TH_BADA_TriviaWebsiteGraphic1080x1080_041525_v3A-1.png
END:VEVENT
BEGIN:VEVENT
DTSTART;TZID=America/New_York:20260408T160000
DTEND;TZID=America/New_York:20260408T220000
DTSTAMP:20260424T061639
CREATED:20260105T184051Z
LAST-MODIFIED:20260302T154035Z
UID:10002057-1775664000-1775685600@www.badabeanbadabooze.com
SUMMARY:Cosmos & Crafts
DESCRIPTION:Bring out your craft supplies\, creativity\, and inner Carrie Bradshaw! Join us for Crafts & Cosmos – you bring the craft; we’ll bring the (happy-hour priced $9) cosmos.
URL:https://www.badabeanbadabooze.com/event/cosmos-crafts/2026-04-08/
LOCATION:Quarry Trails\, 2157 Quarry Trails Drive\, Columbus\, OH\, 43228\, United States
ATTACH;FMTTYPE=image/png:https://www.badabeanbadabooze.com/wp-content/uploads/2025/01/TH_BADA_CraftsCosmosWEBSITE_012125_v1A.png
GEO:39.9984040063;-83.0838202362
X-APPLE-STRUCTURED-LOCATION;VALUE=URI;X-ADDRESS=Quarry Trails 2157 Quarry Trails Drive Columbus OH 43228 United States;X-APPLE-RADIUS=500;X-TITLE=2157 Quarry Trails Drive:geo:-83.0838202362,39.9984040063
END:VEVENT
BEGIN:VEVENT
DTSTART;TZID=America/New_York:20260408T160000
DTEND;TZID=America/New_York:20260408T220000
DTSTAMP:20260424T061639
CREATED:20260105T184236Z
LAST-MODIFIED:20260302T154003Z
UID:10002047-1775664000-1775685600@www.badabeanbadabooze.com
SUMMARY:Wine Down Wednesdays
DESCRIPTION:Wine Down Wednesdays: Relax with R&B Music & Happy Hour Wine Pours all night
URL:https://www.badabeanbadabooze.com/event/wine-down-wednesdays/2026-04-08/
LOCATION:Italian Village\, 231 E 1st Ave\, Columbus\, OH\, 43215\, United States
ATTACH;FMTTYPE=image/png:https://www.badabeanbadabooze.com/wp-content/uploads/2025/01/TH_BADA_WineDownWednesdaysWEBSITE_012125_v1A.png
END:VEVENT
BEGIN:VEVENT
DTSTART;TZID=America/New_York:20260409T190000
DTEND;TZID=America/New_York:20260409T210000
DTSTAMP:20260424T061639
CREATED:20250422T150043Z
LAST-MODIFIED:20260410T133057Z
UID:10001278-1775761200-1775768400@www.badabeanbadabooze.com
SUMMARY:Off The Record: Jazz Night at the Quarry
DESCRIPTION:Introducing Off the Record—a new Thursday tradition at our Quarry Trails location.Join us weekly from 7–9 PM for intimate live jazz sessions\, curated cocktails\, and chill night-out energy. \n$25 bottles of select wines! \nonly on Thursdays during bar hours (4-10 PM)
URL:https://www.badabeanbadabooze.com/event/off-the-record-jazz-night-at-the-quarry/2026-04-09/
LOCATION:Quarry Trails\, 2157 Quarry Trails Drive\, Columbus\, OH\, 43228\, United States
ATTACH;FMTTYPE=image/png:https://www.badabeanbadabooze.com/wp-content/uploads/2025/04/TH_BADA_OffTheRecordWEBSITEGRAPHIC_042225_v4A.png
GEO:39.9984040063;-83.0838202362
X-APPLE-STRUCTURED-LOCATION;VALUE=URI;X-ADDRESS=Quarry Trails 2157 Quarry Trails Drive Columbus OH 43228 United States;X-APPLE-RADIUS=500;X-TITLE=2157 Quarry Trails Drive:geo:-83.0838202362,39.9984040063
END:VEVENT
BEGIN:VEVENT
DTSTART;TZID=America/New_York:20260410T160000
DTEND;TZID=America/New_York:20260410T220000
DTSTAMP:20260424T061639
CREATED:20260105T183901Z
LAST-MODIFIED:20260302T153931Z
UID:10002037-1775836800-1775858400@www.badabeanbadabooze.com
SUMMARY:Classic Movies and Cocktails
DESCRIPTION:Just the Classics”: Classic movies and $9 classic cocktails all night long
URL:https://www.badabeanbadabooze.com/event/classic-movies-and-cocktails/2026-04-10/
LOCATION:Quarry Trails\, 2157 Quarry Trails Drive\, Columbus\, OH\, 43228\, United States
ATTACH;FMTTYPE=image/png:https://www.badabeanbadabooze.com/wp-content/uploads/2025/01/TH_BADA_JustTheClassicsWEBSITE_012125_v1A.png
GEO:39.9984040063;-83.0838202362
X-APPLE-STRUCTURED-LOCATION;VALUE=URI;X-ADDRESS=Quarry Trails 2157 Quarry Trails Drive Columbus OH 43228 United States;X-APPLE-RADIUS=500;X-TITLE=2157 Quarry Trails Drive:geo:-83.0838202362,39.9984040063
END:VEVENT
BEGIN:VEVENT
DTSTART;TZID=America/New_York:20260410T160000
DTEND;TZID=America/New_York:20260410T220000
DTSTAMP:20260424T061639
CREATED:20260105T185839Z
LAST-MODIFIED:20260302T153912Z
UID:10002027-1775836800-1775858400@www.badabeanbadabooze.com
SUMMARY:Girl Dinner
DESCRIPTION:$9 Happy Hour Martinis All Night\, Cheers to the weekend with Girl Dinner
URL:https://www.badabeanbadabooze.com/event/girl-dinner/2026-04-10/
LOCATION:Italian Village\, 231 E 1st Ave\, Columbus\, OH\, 43215\, United States
ATTACH;FMTTYPE=image/png:https://www.badabeanbadabooze.com/wp-content/uploads/2025/01/TH_BADA_GirlDinnerWEBSITE_012125_v1A.png
END:VEVENT
BEGIN:VEVENT
DTSTART;TZID=America/New_York:20260411T150000
DTEND;TZID=America/New_York:20260411T200000
DTSTAMP:20260424T061639
CREATED:20260403T144127Z
LAST-MODIFIED:20260407T135034Z
UID:10002097-1775919600-1775937600@www.badabeanbadabooze.com
SUMMARY:Kozy Social Hour
DESCRIPTION:The Kozy Social hour is coming to Quarry Trails! Dj sets\, great vibes and better drinks! follow us on social for more details!
URL:https://www.badabeanbadabooze.com/event/kozy-social-hour-quarry-trails/
LOCATION:Quarry Trails\, 2157 Quarry Trails Drive\, Columbus\, OH\, 43228\, United States
ATTACH;FMTTYPE=image/png:https://www.badabeanbadabooze.com/wp-content/uploads/2025/01/TH_LG_KozyNightGENERICWEBSITE_012825_v1A.png
GEO:39.9984040063;-83.0838202362
X-APPLE-STRUCTURED-LOCATION;VALUE=URI;X-ADDRESS=Quarry Trails 2157 Quarry Trails Drive Columbus OH 43228 United States;X-APPLE-RADIUS=500;X-TITLE=2157 Quarry Trails Drive:geo:-83.0838202362,39.9984040063
END:VEVENT
BEGIN:VEVENT
DTSTART;TZID=America/New_York:20260413T190000
DTEND;TZID=America/New_York:20260413T210000
DTSTAMP:20260424T061639
CREATED:20250903T192832Z
LAST-MODIFIED:20250903T192832Z
UID:10001541-1776106800-1776114000@www.badabeanbadabooze.com
SUMMARY:Trivia Night at Quarry Trails
DESCRIPTION:Bring your crew and your brainpower to our new weekly trivia at Quarry Trails. Fast-paced rounds\, pop-culture to deep cuts\, and prizes for the top teams. It’s free to play\, team-friendly\, and perfect for a midweek hang. \nSettle in with lattes\, cocktails\, and snacks from the bar while you compete. Walk in\, grab a table\, and game on. \nFREE TO PLAY
URL:https://www.badabeanbadabooze.com/event/trivia-night-at-quarry-trails/2026-04-13/
LOCATION:Quarry Trails\, 2157 Quarry Trails Drive\, Columbus\, OH\, 43228\, United States
CATEGORIES:Trivia
ATTACH;FMTTYPE=image/jpeg:https://www.badabeanbadabooze.com/wp-content/uploads/2025/09/QT_TRIVIA-WEBSITE-GRAP-1.jpg
GEO:39.9984040063;-83.0838202362
X-APPLE-STRUCTURED-LOCATION;VALUE=URI;X-ADDRESS=Quarry Trails 2157 Quarry Trails Drive Columbus OH 43228 United States;X-APPLE-RADIUS=500;X-TITLE=2157 Quarry Trails Drive:geo:-83.0838202362,39.9984040063
END:VEVENT
BEGIN:VEVENT
DTSTART;TZID=America/New_York:20260414T180000
DTEND;TZID=America/New_York:20260414T200000
DTSTAMP:20260424T061639
CREATED:20250112T174545Z
LAST-MODIFIED:20251119T174358Z
UID:10000077-1776189600-1776196800@www.badabeanbadabooze.com
SUMMARY:Trivia Twoozeday
DESCRIPTION:Trivia Twoozeday! Show up early and take advantage of our great Happy Hour specials. Consider it as a lubricant for the brain. Trivia starts at 6pm until 8pm!
URL:https://www.badabeanbadabooze.com/event/trivia-twoozedays/2026-04-14/
LOCATION:Italian Village\, 231 E 1st Ave\, Columbus\, OH\, 43215\, United States
ATTACH;FMTTYPE=image/png:https://www.badabeanbadabooze.com/wp-content/uploads/2025/01/TH_BADA_TriviaWebsiteGraphic1080x1080_041525_v3A-1.png
END:VEVENT
BEGIN:VEVENT
DTSTART;TZID=America/New_York:20260415T160000
DTEND;TZID=America/New_York:20260415T220000
DTSTAMP:20260424T061639
CREATED:20260105T184051Z
LAST-MODIFIED:20260302T154035Z
UID:10002058-1776268800-1776290400@www.badabeanbadabooze.com
SUMMARY:Cosmos & Crafts
DESCRIPTION:Bring out your craft supplies\, creativity\, and inner Carrie Bradshaw! Join us for Crafts & Cosmos – you bring the craft; we’ll bring the (happy-hour priced $9) cosmos.
URL:https://www.badabeanbadabooze.com/event/cosmos-crafts/2026-04-15/
LOCATION:Quarry Trails\, 2157 Quarry Trails Drive\, Columbus\, OH\, 43228\, United States
ATTACH;FMTTYPE=image/png:https://www.badabeanbadabooze.com/wp-content/uploads/2025/01/TH_BADA_CraftsCosmosWEBSITE_012125_v1A.png
GEO:39.9984040063;-83.0838202362
X-APPLE-STRUCTURED-LOCATION;VALUE=URI;X-ADDRESS=Quarry Trails 2157 Quarry Trails Drive Columbus OH 43228 United States;X-APPLE-RADIUS=500;X-TITLE=2157 Quarry Trails Drive:geo:-83.0838202362,39.9984040063
END:VEVENT
BEGIN:VEVENT
DTSTART;TZID=America/New_York:20260415T160000
DTEND;TZID=America/New_York:20260415T220000
DTSTAMP:20260424T061639
CREATED:20260105T184236Z
LAST-MODIFIED:20260302T154003Z
UID:10002048-1776268800-1776290400@www.badabeanbadabooze.com
SUMMARY:Wine Down Wednesdays
DESCRIPTION:Wine Down Wednesdays: Relax with R&B Music & Happy Hour Wine Pours all night
URL:https://www.badabeanbadabooze.com/event/wine-down-wednesdays/2026-04-15/
LOCATION:Italian Village\, 231 E 1st Ave\, Columbus\, OH\, 43215\, United States
ATTACH;FMTTYPE=image/png:https://www.badabeanbadabooze.com/wp-content/uploads/2025/01/TH_BADA_WineDownWednesdaysWEBSITE_012125_v1A.png
END:VEVENT
BEGIN:VEVENT
DTSTART;TZID=America/New_York:20260416T190000
DTEND;TZID=America/New_York:20260416T210000
DTSTAMP:20260424T061639
CREATED:20250422T150043Z
LAST-MODIFIED:20260410T133057Z
UID:10001279-1776366000-1776373200@www.badabeanbadabooze.com
SUMMARY:Off The Record: Jazz Night at the Quarry
DESCRIPTION:Introducing Off the Record—a new Thursday tradition at our Quarry Trails location.Join us weekly from 7–9 PM for intimate live jazz sessions\, curated cocktails\, and chill night-out energy. \n$25 bottles of select wines! \nonly on Thursdays during bar hours (4-10 PM)
URL:https://www.badabeanbadabooze.com/event/off-the-record-jazz-night-at-the-quarry/2026-04-16/
LOCATION:Quarry Trails\, 2157 Quarry Trails Drive\, Columbus\, OH\, 43228\, United States
ATTACH;FMTTYPE=image/png:https://www.badabeanbadabooze.com/wp-content/uploads/2025/04/TH_BADA_OffTheRecordWEBSITEGRAPHIC_042225_v4A.png
GEO:39.9984040063;-83.0838202362
X-APPLE-STRUCTURED-LOCATION;VALUE=URI;X-ADDRESS=Quarry Trails 2157 Quarry Trails Drive Columbus OH 43228 United States;X-APPLE-RADIUS=500;X-TITLE=2157 Quarry Trails Drive:geo:-83.0838202362,39.9984040063
END:VEVENT
BEGIN:VEVENT
DTSTART;TZID=America/New_York:20260417T160000
DTEND;TZID=America/New_York:20260417T220000
DTSTAMP:20260424T061639
CREATED:20260105T183901Z
LAST-MODIFIED:20260302T153931Z
UID:10002038-1776441600-1776463200@www.badabeanbadabooze.com
SUMMARY:Classic Movies and Cocktails
DESCRIPTION:Just the Classics”: Classic movies and $9 classic cocktails all night long
URL:https://www.badabeanbadabooze.com/event/classic-movies-and-cocktails/2026-04-17/
LOCATION:Quarry Trails\, 2157 Quarry Trails Drive\, Columbus\, OH\, 43228\, United States
ATTACH;FMTTYPE=image/png:https://www.badabeanbadabooze.com/wp-content/uploads/2025/01/TH_BADA_JustTheClassicsWEBSITE_012125_v1A.png
GEO:39.9984040063;-83.0838202362
X-APPLE-STRUCTURED-LOCATION;VALUE=URI;X-ADDRESS=Quarry Trails 2157 Quarry Trails Drive Columbus OH 43228 United States;X-APPLE-RADIUS=500;X-TITLE=2157 Quarry Trails Drive:geo:-83.0838202362,39.9984040063
END:VEVENT
BEGIN:VEVENT
DTSTART;TZID=America/New_York:20260417T160000
DTEND;TZID=America/New_York:20260417T220000
DTSTAMP:20260424T061639
CREATED:20260105T185839Z
LAST-MODIFIED:20260302T153912Z
UID:10002028-1776441600-1776463200@www.badabeanbadabooze.com
SUMMARY:Girl Dinner
DESCRIPTION:$9 Happy Hour Martinis All Night\, Cheers to the weekend with Girl Dinner
URL:https://www.badabeanbadabooze.com/event/girl-dinner/2026-04-17/
LOCATION:Italian Village\, 231 E 1st Ave\, Columbus\, OH\, 43215\, United States
ATTACH;FMTTYPE=image/png:https://www.badabeanbadabooze.com/wp-content/uploads/2025/01/TH_BADA_GirlDinnerWEBSITE_012125_v1A.png
END:VEVENT
BEGIN:VEVENT
DTSTART;TZID=America/New_York:20260420T190000
DTEND;TZID=America/New_York:20260420T210000
DTSTAMP:20260424T061639
CREATED:20250903T192832Z
LAST-MODIFIED:20250903T192832Z
UID:10001542-1776711600-1776718800@www.badabeanbadabooze.com
SUMMARY:Trivia Night at Quarry Trails
DESCRIPTION:Bring your crew and your brainpower to our new weekly trivia at Quarry Trails. Fast-paced rounds\, pop-culture to deep cuts\, and prizes for the top teams. It’s free to play\, team-friendly\, and perfect for a midweek hang. \nSettle in with lattes\, cocktails\, and snacks from the bar while you compete. Walk in\, grab a table\, and game on. \nFREE TO PLAY
URL:https://www.badabeanbadabooze.com/event/trivia-night-at-quarry-trails/2026-04-20/
LOCATION:Quarry Trails\, 2157 Quarry Trails Drive\, Columbus\, OH\, 43228\, United States
CATEGORIES:Trivia
ATTACH;FMTTYPE=image/jpeg:https://www.badabeanbadabooze.com/wp-content/uploads/2025/09/QT_TRIVIA-WEBSITE-GRAP-1.jpg
GEO:39.9984040063;-83.0838202362
X-APPLE-STRUCTURED-LOCATION;VALUE=URI;X-ADDRESS=Quarry Trails 2157 Quarry Trails Drive Columbus OH 43228 United States;X-APPLE-RADIUS=500;X-TITLE=2157 Quarry Trails Drive:geo:-83.0838202362,39.9984040063
END:VEVENT
BEGIN:VEVENT
DTSTART;TZID=America/New_York:20260421T180000
DTEND;TZID=America/New_York:20260421T200000
DTSTAMP:20260424T061639
CREATED:20250112T174545Z
LAST-MODIFIED:20251119T174358Z
UID:10000078-1776794400-1776801600@www.badabeanbadabooze.com
SUMMARY:Trivia Twoozeday
DESCRIPTION:Trivia Twoozeday! Show up early and take advantage of our great Happy Hour specials. Consider it as a lubricant for the brain. Trivia starts at 6pm until 8pm!
URL:https://www.badabeanbadabooze.com/event/trivia-twoozedays/2026-04-21/
LOCATION:Italian Village\, 231 E 1st Ave\, Columbus\, OH\, 43215\, United States
ATTACH;FMTTYPE=image/png:https://www.badabeanbadabooze.com/wp-content/uploads/2025/01/TH_BADA_TriviaWebsiteGraphic1080x1080_041525_v3A-1.png
END:VEVENT
BEGIN:VEVENT
DTSTART;TZID=America/New_York:20260421T190000
DTEND;TZID=America/New_York:20260421T210000
DTSTAMP:20260424T061639
CREATED:20260302T155037Z
LAST-MODIFIED:20260409T152931Z
UID:10002098-1776798000-1776805200@www.badabeanbadabooze.com
SUMMARY:House Blend
DESCRIPTION:Join us at Quarry Trails Bada for a special pop-up event featuring Voyager\, curated wine flights\, and live DJ energy. This free-to-attend evening is designed for guests to explore new wines\, connect with friends\, and enjoy the atmosphere that makes Bada a neighborhood favorite. \nVoyager will be pouring a selection of their favorite wines\, available as tasting flights featuring five pours for $5 per flight\, giving guests an easy and affordable way to sample something new and discover standout varietals. \nA live DJ will be setting the tone throughout the night\, creating a relaxed but lively backdrop whether you’re dropping in for a quick tasting or planning to stay and socialize. \nNo tickets or reservations are required. Just stop by\, grab a flight\, and enjoy the night.
URL:https://www.badabeanbadabooze.com/event/house-blend/2026-04-21/
LOCATION:Quarry Trails\, 2157 Quarry Trails Drive\, Columbus\, OH\, 43228\, United States
ATTACH;FMTTYPE=image/png:https://www.badabeanbadabooze.com/wp-content/uploads/2026/03/TH_BADA_VoyagerPopUpWEBSITE_031326_v1A.png
GEO:39.9984040063;-83.0838202362
X-APPLE-STRUCTURED-LOCATION;VALUE=URI;X-ADDRESS=Quarry Trails 2157 Quarry Trails Drive Columbus OH 43228 United States;X-APPLE-RADIUS=500;X-TITLE=2157 Quarry Trails Drive:geo:-83.0838202362,39.9984040063
END:VEVENT
BEGIN:VEVENT
DTSTART;TZID=America/New_York:20260422T160000
DTEND;TZID=America/New_York:20260422T220000
DTSTAMP:20260424T061639
CREATED:20260105T184051Z
LAST-MODIFIED:20260302T154035Z
UID:10002059-1776873600-1776895200@www.badabeanbadabooze.com
SUMMARY:Cosmos & Crafts
DESCRIPTION:Bring out your craft supplies\, creativity\, and inner Carrie Bradshaw! Join us for Crafts & Cosmos – you bring the craft; we’ll bring the (happy-hour priced $9) cosmos.
URL:https://www.badabeanbadabooze.com/event/cosmos-crafts/2026-04-22/
LOCATION:Quarry Trails\, 2157 Quarry Trails Drive\, Columbus\, OH\, 43228\, United States
ATTACH;FMTTYPE=image/png:https://www.badabeanbadabooze.com/wp-content/uploads/2025/01/TH_BADA_CraftsCosmosWEBSITE_012125_v1A.png
GEO:39.9984040063;-83.0838202362
X-APPLE-STRUCTURED-LOCATION;VALUE=URI;X-ADDRESS=Quarry Trails 2157 Quarry Trails Drive Columbus OH 43228 United States;X-APPLE-RADIUS=500;X-TITLE=2157 Quarry Trails Drive:geo:-83.0838202362,39.9984040063
END:VEVENT
BEGIN:VEVENT
DTSTART;TZID=America/New_York:20260422T160000
DTEND;TZID=America/New_York:20260422T220000
DTSTAMP:20260424T061639
CREATED:20260105T184236Z
LAST-MODIFIED:20260302T154003Z
UID:10002049-1776873600-1776895200@www.badabeanbadabooze.com
SUMMARY:Wine Down Wednesdays
DESCRIPTION:Wine Down Wednesdays: Relax with R&B Music & Happy Hour Wine Pours all night
URL:https://www.badabeanbadabooze.com/event/wine-down-wednesdays/2026-04-22/
LOCATION:Italian Village\, 231 E 1st Ave\, Columbus\, OH\, 43215\, United States
ATTACH;FMTTYPE=image/png:https://www.badabeanbadabooze.com/wp-content/uploads/2025/01/TH_BADA_WineDownWednesdaysWEBSITE_012125_v1A.png
END:VEVENT
BEGIN:VEVENT
DTSTART;TZID=America/New_York:20260423T190000
DTEND;TZID=America/New_York:20260423T210000
DTSTAMP:20260424T061639
CREATED:20250422T150043Z
LAST-MODIFIED:20260410T133057Z
UID:10001280-1776970800-1776978000@www.badabeanbadabooze.com
SUMMARY:Off The Record: Jazz Night at the Quarry
DESCRIPTION:Introducing Off the Record—a new Thursday tradition at our Quarry Trails location.Join us weekly from 7–9 PM for intimate live jazz sessions\, curated cocktails\, and chill night-out energy. \n$25 bottles of select wines! \nonly on Thursdays during bar hours (4-10 PM)
URL:https://www.badabeanbadabooze.com/event/off-the-record-jazz-night-at-the-quarry/2026-04-23/
LOCATION:Quarry Trails\, 2157 Quarry Trails Drive\, Columbus\, OH\, 43228\, United States
ATTACH;FMTTYPE=image/png:https://www.badabeanbadabooze.com/wp-content/uploads/2025/04/TH_BADA_OffTheRecordWEBSITEGRAPHIC_042225_v4A.png
GEO:39.9984040063;-83.0838202362
X-APPLE-STRUCTURED-LOCATION;VALUE=URI;X-ADDRESS=Quarry Trails 2157 Quarry Trails Drive Columbus OH 43228 United States;X-APPLE-RADIUS=500;X-TITLE=2157 Quarry Trails Drive:geo:-83.0838202362,39.9984040063
END:VEVENT
BEGIN:VEVENT
DTSTART;TZID=America/New_York:20260424T160000
DTEND;TZID=America/New_York:20260424T220000
DTSTAMP:20260424T061639
CREATED:20260105T183901Z
LAST-MODIFIED:20260302T153931Z
UID:10002039-1777046400-1777068000@www.badabeanbadabooze.com
SUMMARY:Classic Movies and Cocktails
DESCRIPTION:Just the Classics”: Classic movies and $9 classic cocktails all night long
URL:https://www.badabeanbadabooze.com/event/classic-movies-and-cocktails/2026-04-24/
LOCATION:Quarry Trails\, 2157 Quarry Trails Drive\, Columbus\, OH\, 43228\, United States
ATTACH;FMTTYPE=image/png:https://www.badabeanbadabooze.com/wp-content/uploads/2025/01/TH_BADA_JustTheClassicsWEBSITE_012125_v1A.png
GEO:39.9984040063;-83.0838202362
X-APPLE-STRUCTURED-LOCATION;VALUE=URI;X-ADDRESS=Quarry Trails 2157 Quarry Trails Drive Columbus OH 43228 United States;X-APPLE-RADIUS=500;X-TITLE=2157 Quarry Trails Drive:geo:-83.0838202362,39.9984040063
END:VEVENT
BEGIN:VEVENT
DTSTART;TZID=America/New_York:20260424T160000
DTEND;TZID=America/New_York:20260424T220000
DTSTAMP:20260424T061639
CREATED:20260105T185839Z
LAST-MODIFIED:20260302T153912Z
UID:10002029-1777046400-1777068000@www.badabeanbadabooze.com
SUMMARY:Girl Dinner
DESCRIPTION:$9 Happy Hour Martinis All Night\, Cheers to the weekend with Girl Dinner
URL:https://www.badabeanbadabooze.com/event/girl-dinner/2026-04-24/
LOCATION:Italian Village\, 231 E 1st Ave\, Columbus\, OH\, 43215\, United States
ATTACH;FMTTYPE=image/png:https://www.badabeanbadabooze.com/wp-content/uploads/2025/01/TH_BADA_GirlDinnerWEBSITE_012125_v1A.png
END:VEVENT
BEGIN:VEVENT
DTSTART;TZID=America/New_York:20260427T190000
DTEND;TZID=America/New_York:20260427T210000
DTSTAMP:20260424T061639
CREATED:20250903T192832Z
LAST-MODIFIED:20250903T192832Z
UID:10001543-1777316400-1777323600@www.badabeanbadabooze.com
SUMMARY:Trivia Night at Quarry Trails
DESCRIPTION:Bring your crew and your brainpower to our new weekly trivia at Quarry Trails. Fast-paced rounds\, pop-culture to deep cuts\, and prizes for the top teams. It’s free to play\, team-friendly\, and perfect for a midweek hang. \nSettle in with lattes\, cocktails\, and snacks from the bar while you compete. Walk in\, grab a table\, and game on. \nFREE TO PLAY
URL:https://www.badabeanbadabooze.com/event/trivia-night-at-quarry-trails/2026-04-27/
LOCATION:Quarry Trails\, 2157 Quarry Trails Drive\, Columbus\, OH\, 43228\, United States
CATEGORIES:Trivia
ATTACH;FMTTYPE=image/jpeg:https://www.badabeanbadabooze.com/wp-content/uploads/2025/09/QT_TRIVIA-WEBSITE-GRAP-1.jpg
GEO:39.9984040063;-83.0838202362
X-APPLE-STRUCTURED-LOCATION;VALUE=URI;X-ADDRESS=Quarry Trails 2157 Quarry Trails Drive Columbus OH 43228 United States;X-APPLE-RADIUS=500;X-TITLE=2157 Quarry Trails Drive:geo:-83.0838202362,39.9984040063
END:VEVENT
BEGIN:VEVENT
DTSTART;TZID=America/New_York:20260428T180000
DTEND;TZID=America/New_York:20260428T200000
DTSTAMP:20260424T061639
CREATED:20250112T174545Z
LAST-MODIFIED:20251119T174358Z
UID:10000079-1777399200-1777406400@www.badabeanbadabooze.com
SUMMARY:Trivia Twoozeday
DESCRIPTION:Trivia Twoozeday! Show up early and take advantage of our great Happy Hour specials. Consider it as a lubricant for the brain. Trivia starts at 6pm until 8pm!
URL:https://www.badabeanbadabooze.com/event/trivia-twoozedays/2026-04-28/
LOCATION:Italian Village\, 231 E 1st Ave\, Columbus\, OH\, 43215\, United States
ATTACH;FMTTYPE=image/png:https://www.badabeanbadabooze.com/wp-content/uploads/2025/01/TH_BADA_TriviaWebsiteGraphic1080x1080_041525_v3A-1.png
END:VEVENT
END:VCALENDAR